BEGIN:VCALENDAR
VERSION:2.0
PRODID:-//Kingdom Life - ECPv6.15.17//NONSGML v1.0//EN
CALSCALE:GREGORIAN
METHOD:PUBLISH
X-WR-CALNAME:Kingdom Life
X-ORIGINAL-URL:https://www.kingdomlife.global
X-WR-CALDESC:Events for Kingdom Life
REFRESH-INTERVAL;VALUE=DURATION:PT1H
X-Robots-Tag:noindex
X-PUBLISHED-TTL:PT1H
BEGIN:VTIMEZONE
TZID:UTC
BEGIN:STANDARD
TZOFFSETFROM:+0000
TZOFFSETTO:+0000
TZNAME:UTC
DTSTART:20220101T000000
END:STANDARD
END:VTIMEZONE
BEGIN:VEVENT
DTSTART;TZID=UTC:20230809T180000
DTEND;TZID=UTC:20230809T210000
DTSTAMP:20260422T104332
CREATED:20230614T153458Z
LAST-MODIFIED:20230614T153458Z
UID:5412-1691604000-1691614800@www.kingdomlife.global
SUMMARY:Youth Swim Party
DESCRIPTION:Come out to Nathan’s for a pool party!  Food is provided.
URL:https://www.kingdomlife.global/event/youth-swim-party-8-9-23/
END:VEVENT
END:VCALENDAR