BEGIN:VCALENDAR
VERSION:2.0
PRODID:-//Kingdom Life - ECPv6.15.17//NONSGML v1.0//EN
CALSCALE:GREGORIAN
METHOD:PUBLISH
X-WR-CALNAME:Kingdom Life
X-ORIGINAL-URL:https://www.kingdomlife.global
X-WR-CALDESC:Events for Kingdom Life
REFRESH-INTERVAL;VALUE=DURATION:PT1H
X-Robots-Tag:noindex
X-PUBLISHED-TTL:PT1H
BEGIN:VTIMEZONE
TZID:UTC
BEGIN:STANDARD
TZOFFSETFROM:+0000
TZOFFSETTO:+0000
TZNAME:UTC
DTSTART:20220101T000000
END:STANDARD
END:VTIMEZONE
BEGIN:VEVENT
DTSTART;TZID=UTC:20230906T180000
DTEND;TZID=UTC:20230906T200000
DTSTAMP:20260422T121114
CREATED:20230410T173650Z
LAST-MODIFIED:20230816T170323Z
UID:5304-1694023200-1694030400@www.kingdomlife.global
SUMMARY:Kick Off Picnic
DESCRIPTION:We are kicking off our Wednesday Night Activities with a picnic the church.  Please bring a friend or neighbor—we want this to be a community outreach!  Pulled pork\, baked beans\, chips\, drinks\, and dessert will be\nfurnished.  There will be games on the lawn and inflatables for the whole family. \n 
URL:https://www.kingdomlife.global/event/kick-off-picnic/
END:VEVENT
END:VCALENDAR