BEGIN:VCALENDAR
VERSION:2.0
PRODID:-//Kingdom Life - ECPv6.15.17//NONSGML v1.0//EN
CALSCALE:GREGORIAN
METHOD:PUBLISH
X-ORIGINAL-URL:https://www.kingdomlife.global
X-WR-CALDESC:Events for Kingdom Life
REFRESH-INTERVAL;VALUE=DURATION:PT1H
X-Robots-Tag:noindex
X-PUBLISHED-TTL:PT1H
BEGIN:VTIMEZONE
TZID:UTC
BEGIN:STANDARD
TZOFFSETFROM:+0000
TZOFFSETTO:+0000
TZNAME:UTC
DTSTART:20220101T000000
END:STANDARD
END:VTIMEZONE
BEGIN:VEVENT
DTSTART;TZID=UTC:20230918T190000
DTEND;TZID=UTC:20230918T200000
DTSTAMP:20260424T144427
CREATED:20230627T193803Z
LAST-MODIFIED:20230802T173007Z
UID:5474-1695063600-1695067200@www.kingdomlife.global
SUMMARY:Elders Meeting
DESCRIPTION:The KLCC elders meet regularly with Pastor Stephen to help spiritually lead the church.
URL:https://www.kingdomlife.global/event/elders-meeting-9-18-23/
END:VEVENT
BEGIN:VEVENT
DTSTART;TZID=UTC:20230918T190000
DTEND;TZID=UTC:20230918T200000
DTSTAMP:20260424T144427
CREATED:20230816T172326Z
LAST-MODIFIED:20230816T172326Z
UID:5625-1695063600-1695067200@www.kingdomlife.global
SUMMARY:Prayer Meeting
DESCRIPTION:This is an intentional time of Spirit-led prayer.
URL:https://www.kingdomlife.global/event/prayer-meeting-9-18-23/
END:VEVENT
END:VCALENDAR