BEGIN:VCALENDAR
VERSION:2.0
PRODID:-//Kingdom Life - ECPv6.15.17//NONSGML v1.0//EN
CALSCALE:GREGORIAN
METHOD:PUBLISH
X-ORIGINAL-URL:https://www.kingdomlife.global
X-WR-CALDESC:Events for Kingdom Life
REFRESH-INTERVAL;VALUE=DURATION:PT1H
X-Robots-Tag:noindex
X-PUBLISHED-TTL:PT1H
BEGIN:VTIMEZONE
TZID:UTC
BEGIN:STANDARD
TZOFFSETFROM:+0000
TZOFFSETTO:+0000
TZNAME:UTC
DTSTART:20220101T000000
END:STANDARD
END:VTIMEZONE
BEGIN:VEVENT
DTSTART;TZID=UTC:20231008T080000
DTEND;TZID=UTC:20231008T090000
DTSTAMP:20260420T152501
CREATED:20230928T150832Z
LAST-MODIFIED:20230928T150832Z
UID:5714-1696752000-1696755600@www.kingdomlife.global
SUMMARY:Hot Breakfast
DESCRIPTION:The youth are reopening the café on Sunday mornings.  This week they will be serving biscuits and gravy.
URL:https://www.kingdomlife.global/event/hot-breakfast/
END:VEVENT
BEGIN:VEVENT
DTSTART;TZID=UTC:20231008T090000
DTEND;TZID=UTC:20231008T094500
DTSTAMP:20260420T152501
CREATED:20230816T173451Z
LAST-MODIFIED:20230831T165217Z
UID:5655-1696755600-1696758300@www.kingdomlife.global
SUMMARY:Sunday School
DESCRIPTION:Sunday school classes available for all ages. \nCome early for intercessory prayer at 8:15am or coffee and donuts in the café at 8:30am.
URL:https://www.kingdomlife.global/event/sunday-school-10-8-23/
END:VEVENT
BEGIN:VEVENT
DTSTART;TZID=UTC:20231008T100000
DTEND;TZID=UTC:20231008T113000
DTSTAMP:20260420T152501
CREATED:20230816T173118Z
LAST-MODIFIED:20230816T173118Z
UID:5645-1696759200-1696764600@www.kingdomlife.global
SUMMARY:Worship Service
DESCRIPTION:Nursery available for infants – 3 years old\nChildren’s Church is available for the 4 years old – 2nd grade\nIf you are unable to join us in person\, we stream on Facebook\, YouTube\, and our website
URL:https://www.kingdomlife.global/event/worship-service-10-8-23/
END:VEVENT
END:VCALENDAR