BEGIN:VCALENDAR
VERSION:2.0
PRODID:-//Kingdom Life - ECPv6.15.17//NONSGML v1.0//EN
CALSCALE:GREGORIAN
METHOD:PUBLISH
X-WR-CALNAME:Kingdom Life
X-ORIGINAL-URL:https://www.kingdomlife.global
X-WR-CALDESC:Events for Kingdom Life
REFRESH-INTERVAL;VALUE=DURATION:PT1H
X-Robots-Tag:noindex
X-PUBLISHED-TTL:PT1H
BEGIN:VTIMEZONE
TZID:UTC
BEGIN:STANDARD
TZOFFSETFROM:+0000
TZOFFSETTO:+0000
TZNAME:UTC
DTSTART:20220101T000000
END:STANDARD
END:VTIMEZONE
BEGIN:VEVENT
DTSTART;TZID=UTC:20231009T170000
DTEND;TZID=UTC:20231009T200000
DTSTAMP:20260420T165658
CREATED:20230802T144232Z
LAST-MODIFIED:20230802T144232Z
UID:5560-1696870800-1696881600@www.kingdomlife.global
SUMMARY:Pizza Ranch Fundraiser
DESCRIPTION:Come out to dine at Pizza Ranch tonight and help raise fund for Pastor Stephen’s mission trip to Tanzania.
URL:https://www.kingdomlife.global/event/pizza-ranch-fundraiser-3/
END:VEVENT
END:VCALENDAR