BEGIN:VCALENDAR
VERSION:2.0
PRODID:-//Kingdom Life - ECPv6.15.17//NONSGML v1.0//EN
CALSCALE:GREGORIAN
METHOD:PUBLISH
X-WR-CALNAME:Kingdom Life
X-ORIGINAL-URL:https://www.kingdomlife.global
X-WR-CALDESC:Events for Kingdom Life
REFRESH-INTERVAL;VALUE=DURATION:PT1H
X-Robots-Tag:noindex
X-PUBLISHED-TTL:PT1H
BEGIN:VTIMEZONE
TZID:UTC
BEGIN:STANDARD
TZOFFSETFROM:+0000
TZOFFSETTO:+0000
TZNAME:UTC
DTSTART:20220101T000000
END:STANDARD
END:VTIMEZONE
BEGIN:VEVENT
DTSTART;TZID=UTC:20231015T090000
DTEND;TZID=UTC:20231015T094500
DTSTAMP:20260420T165601
CREATED:20230816T173523Z
LAST-MODIFIED:20230831T165148Z
UID:5657-1697360400-1697363100@www.kingdomlife.global
SUMMARY:Sunday School
DESCRIPTION:Sunday school classes available for all ages. \nCome early for intercessory prayer at 8:15am or coffee and donuts in the café at 8:30am.
URL:https://www.kingdomlife.global/event/sunday-school-10-15-23/
END:VEVENT
BEGIN:VEVENT
DTSTART;TZID=UTC:20231015T100000
DTEND;TZID=UTC:20231015T113000
DTSTAMP:20260420T165601
CREATED:20230816T173154Z
LAST-MODIFIED:20230816T173154Z
UID:5647-1697364000-1697369400@www.kingdomlife.global
SUMMARY:Worship Service
DESCRIPTION:Nursery available for infants – 3 years old\nChildren’s Church is available for the 4 years old – 2nd grade\nIf you are unable to join us in person\, we stream on Facebook\, YouTube\, and our website
URL:https://www.kingdomlife.global/event/worship-service-10-15-23/
END:VEVENT
BEGIN:VEVENT
DTSTART;TZID=UTC:20231015T100000
DTEND;TZID=UTC:20231015T113000
DTSTAMP:20260420T165601
CREATED:20230831T174331Z
LAST-MODIFIED:20230831T174331Z
UID:5686-1697364000-1697369400@www.kingdomlife.global
SUMMARY:Baptism
DESCRIPTION:If you would like to give a public testimony of your faith in Jesus\, see a staff member or call the church office at 815-772-4098.
URL:https://www.kingdomlife.global/event/baptism-2023/
END:VEVENT
BEGIN:VEVENT
DTSTART;TZID=UTC:20231015T120000
DTEND;TZID=UTC:20231015T173000
DTSTAMP:20260420T165601
CREATED:20230920T182526Z
LAST-MODIFIED:20230920T182758Z
UID:5700-1697371200-1697391000@www.kingdomlife.global
SUMMARY:Pumpkin Patch / Corn Maze
DESCRIPTION:PUMPKIN PATCH / CORN MAZE\n(Selmi’s in Rock Falls)\nSunday\, October 15\nCost $10\nINVITE YOUR FRIENDS!\nBring a sack lunch \nThere will be donuts and cider available for purchase. \nLeaving from KLCC at 12pm returning around 5:30pm \n 
URL:https://www.kingdomlife.global/event/pumpkin-patch-corn-maze/
END:VEVENT
END:VCALENDAR