BEGIN:VCALENDAR
VERSION:2.0
PRODID:-//Kingdom Life - ECPv6.15.17//NONSGML v1.0//EN
CALSCALE:GREGORIAN
METHOD:PUBLISH
X-WR-CALNAME:Kingdom Life
X-ORIGINAL-URL:https://www.kingdomlife.global
X-WR-CALDESC:Events for Kingdom Life
REFRESH-INTERVAL;VALUE=DURATION:PT1H
X-Robots-Tag:noindex
X-PUBLISHED-TTL:PT1H
BEGIN:VTIMEZONE
TZID:UTC
BEGIN:STANDARD
TZOFFSETFROM:+0000
TZOFFSETTO:+0000
TZNAME:UTC
DTSTART:20220101T000000
END:STANDARD
END:VTIMEZONE
BEGIN:VEVENT
DTSTART;TZID=UTC:20231112T090000
DTEND;TZID=UTC:20231112T094500
DTSTAMP:20260422T090857
CREATED:20231031T194156Z
LAST-MODIFIED:20231031T194415Z
UID:5770-1699779600-1699782300@www.kingdomlife.global
SUMMARY:Sunday School
DESCRIPTION:Sunday school classes available for all ages. \nCome early for intercessory prayer at 8:15am or something from the café.
URL:https://www.kingdomlife.global/event/sunday-school-11-12-23/
END:VEVENT
BEGIN:VEVENT
DTSTART;TZID=UTC:20231112T100000
DTEND;TZID=UTC:20231112T113000
DTSTAMP:20260422T090857
CREATED:20231031T193503Z
LAST-MODIFIED:20231031T193503Z
UID:5756-1699783200-1699788600@www.kingdomlife.global
SUMMARY:Baptism
DESCRIPTION:If you would like to give a public testimony of your faith in Jesus\, see a staff member or call the church office at 815-772-4098.
URL:https://www.kingdomlife.global/event/baptism-11-12-23/
END:VEVENT
BEGIN:VEVENT
DTSTART;TZID=UTC:20231112T100000
DTEND;TZID=UTC:20231112T113000
DTSTAMP:20260422T090857
CREATED:20231031T193843Z
LAST-MODIFIED:20231031T193843Z
UID:5762-1699783200-1699788600@www.kingdomlife.global
SUMMARY:Worship Service
DESCRIPTION:Join us to Worship our Lord and Savior\, Jesus!! \nNursery available for infants – 3 years old\nChildren’s Church is available for the 4 years old – 2nd grade \nIf you are unable to join us in person\, we stream on Facebook\, YouTube\, and our website
URL:https://www.kingdomlife.global/event/worship-service-11-12-23/
END:VEVENT
END:VCALENDAR