BEGIN:VCALENDAR
VERSION:2.0
PRODID:-//Kingdom Life - ECPv6.15.17//NONSGML v1.0//EN
CALSCALE:GREGORIAN
METHOD:PUBLISH
X-ORIGINAL-URL:https://www.kingdomlife.global
X-WR-CALDESC:Events for Kingdom Life
REFRESH-INTERVAL;VALUE=DURATION:PT1H
X-Robots-Tag:noindex
X-PUBLISHED-TTL:PT1H
BEGIN:VTIMEZONE
TZID:UTC
BEGIN:STANDARD
TZOFFSETFROM:+0000
TZOFFSETTO:+0000
TZNAME:UTC
DTSTART:20220101T000000
END:STANDARD
END:VTIMEZONE
BEGIN:VEVENT
DTSTART;TZID=UTC:20231119T090000
DTEND;TZID=UTC:20231119T094500
DTSTAMP:20260422T085946
CREATED:20231031T194234Z
LAST-MODIFIED:20231031T194455Z
UID:5772-1700384400-1700387100@www.kingdomlife.global
SUMMARY:Sunday School
DESCRIPTION:Sunday school classes available for all ages. \nCome early for intercessory prayer at 8:15am or something from the café.
URL:https://www.kingdomlife.global/event/sunday-school-11-19-23/
END:VEVENT
BEGIN:VEVENT
DTSTART;TZID=UTC:20231119T100000
DTEND;TZID=UTC:20231119T113000
DTSTAMP:20260422T085946
CREATED:20231031T193929Z
LAST-MODIFIED:20231031T193929Z
UID:5764-1700388000-1700393400@www.kingdomlife.global
SUMMARY:Worship Service
DESCRIPTION:Join us to Worship our Lord and Savior\, Jesus!! \nNursery available for infants – 3 years old\nChildren’s Church is available for the 4 years old – 2nd grade \nIf you are unable to join us in person\, we stream on Facebook\, YouTube\, and our website
URL:https://www.kingdomlife.global/event/worship-service-11-19-23/
END:VEVENT
END:VCALENDAR