BEGIN:VCALENDAR
VERSION:2.0
PRODID:-//Kingdom Life - ECPv6.15.17//NONSGML v1.0//EN
CALSCALE:GREGORIAN
METHOD:PUBLISH
X-WR-CALNAME:Kingdom Life
X-ORIGINAL-URL:https://www.kingdomlife.global
X-WR-CALDESC:Events for Kingdom Life
REFRESH-INTERVAL;VALUE=DURATION:PT1H
X-Robots-Tag:noindex
X-PUBLISHED-TTL:PT1H
BEGIN:VTIMEZONE
TZID:UTC
BEGIN:STANDARD
TZOFFSETFROM:+0000
TZOFFSETTO:+0000
TZNAME:UTC
DTSTART:20220101T000000
END:STANDARD
END:VTIMEZONE
BEGIN:VEVENT
DTSTART;TZID=UTC:20231203T080000
DTEND;TZID=UTC:20231203T090000
DTSTAMP:20260422T122100
CREATED:20231130T192217Z
LAST-MODIFIED:20231130T192217Z
UID:5876-1701590400-1701594000@www.kingdomlife.global
SUMMARY:Hot Breakfast
DESCRIPTION:The youth will be serving a hot breakfast in the café this morning.  Other items will also be available to purchase.
URL:https://www.kingdomlife.global/event/hot-breakfast-12-3-23/
END:VEVENT
BEGIN:VEVENT
DTSTART;TZID=UTC:20231203T090000
DTEND;TZID=UTC:20231203T094500
DTSTAMP:20260422T122100
CREATED:20231106T162043Z
LAST-MODIFIED:20231106T162043Z
UID:5788-1701594000-1701596700@www.kingdomlife.global
SUMMARY:Sunday School
DESCRIPTION:Sunday school classes available for all ages. \nCome early for intercessory prayer at 8:15am or something from the café.
URL:https://www.kingdomlife.global/event/sunday-school-12-3-23/
END:VEVENT
BEGIN:VEVENT
DTSTART;TZID=UTC:20231203T100000
DTEND;TZID=UTC:20231203T113000
DTSTAMP:20260422T122100
CREATED:20231106T163409Z
LAST-MODIFIED:20231106T163409Z
UID:5797-1701597600-1701603000@www.kingdomlife.global
SUMMARY:Worship Service
DESCRIPTION:Nursery available for infants – 3 years old\nChildren’s Church is available for the 4 years old – 2nd grade\nIf you are unable to join us in person\, we stream on Facebook\, YouTube\, and our website
URL:https://www.kingdomlife.global/event/worship-service-12-3-23/
END:VEVENT
END:VCALENDAR