BEGIN:VCALENDAR
VERSION:2.0
PRODID:-//Kingdom Life - ECPv6.15.17//NONSGML v1.0//EN
CALSCALE:GREGORIAN
METHOD:PUBLISH
X-WR-CALNAME:Kingdom Life
X-ORIGINAL-URL:https://www.kingdomlife.global
X-WR-CALDESC:Events for Kingdom Life
REFRESH-INTERVAL;VALUE=DURATION:PT1H
X-Robots-Tag:noindex
X-PUBLISHED-TTL:PT1H
BEGIN:VTIMEZONE
TZID:UTC
BEGIN:STANDARD
TZOFFSETFROM:+0000
TZOFFSETTO:+0000
TZNAME:UTC
DTSTART:20220101T000000
END:STANDARD
END:VTIMEZONE
BEGIN:VEVENT
DTSTART;TZID=UTC:20231217T090000
DTEND;TZID=UTC:20231217T094500
DTSTAMP:20260420T133314
CREATED:20231106T162156Z
LAST-MODIFIED:20231106T162156Z
UID:5792-1702803600-1702806300@www.kingdomlife.global
SUMMARY:Sunday School
DESCRIPTION:Sunday school classes available for all ages. \nCome early for intercessory prayer at 8:15am or something from the café.
URL:https://www.kingdomlife.global/event/sunday-school-10-17-23/
END:VEVENT
BEGIN:VEVENT
DTSTART;TZID=UTC:20231217T100000
DTEND;TZID=UTC:20231217T113000
DTSTAMP:20260420T133314
CREATED:20231106T163557Z
LAST-MODIFIED:20231106T163557Z
UID:5801-1702807200-1702812600@www.kingdomlife.global
SUMMARY:Worship Service
DESCRIPTION:Nursery available for infants – 3 years old\nChildren’s Church is available for the 4 years old – 2nd grade\nIf you are unable to join us in person\, we stream on Facebook\, YouTube\, and our website
URL:https://www.kingdomlife.global/event/worship-service-12-17-23/
END:VEVENT
END:VCALENDAR