BEGIN:VCALENDAR
VERSION:2.0
PRODID:-//Kingdom Life - ECPv6.15.17//NONSGML v1.0//EN
CALSCALE:GREGORIAN
METHOD:PUBLISH
X-ORIGINAL-URL:https://www.kingdomlife.global
X-WR-CALDESC:Events for Kingdom Life
REFRESH-INTERVAL;VALUE=DURATION:PT1H
X-Robots-Tag:noindex
X-PUBLISHED-TTL:PT1H
BEGIN:VTIMEZONE
TZID:UTC
BEGIN:STANDARD
TZOFFSETFROM:+0000
TZOFFSETTO:+0000
TZNAME:UTC
DTSTART:20220101T000000
END:STANDARD
END:VTIMEZONE
BEGIN:VEVENT
DTSTART;TZID=UTC:20231231T100000
DTEND;TZID=UTC:20231231T113000
DTSTAMP:20260419T173713
CREATED:20231106T163659Z
LAST-MODIFIED:20231106T163716Z
UID:5803-1704016800-1704022200@www.kingdomlife.global
SUMMARY:Worship Service
DESCRIPTION:Nursery available for infants – 3 years old\nChildren’s Church is available for the 4 years old – 2nd grade\nIf you are unable to join us in person\, we stream on Facebook\, YouTube\, and our website. \nThere is NO Sunday School this week.
URL:https://www.kingdomlife.global/event/worship-service-12-31-23/
END:VEVENT
END:VCALENDAR