BEGIN:VCALENDAR
VERSION:2.0
PRODID:-//Kingdom Life - ECPv6.15.17//NONSGML v1.0//EN
CALSCALE:GREGORIAN
METHOD:PUBLISH
X-WR-CALNAME:Kingdom Life
X-ORIGINAL-URL:https://www.kingdomlife.global
X-WR-CALDESC:Events for Kingdom Life
REFRESH-INTERVAL;VALUE=DURATION:PT1H
X-Robots-Tag:noindex
X-PUBLISHED-TTL:PT1H
BEGIN:VTIMEZONE
TZID:UTC
BEGIN:STANDARD
TZOFFSETFROM:+0000
TZOFFSETTO:+0000
TZNAME:UTC
DTSTART:20230101T000000
END:STANDARD
END:VTIMEZONE
BEGIN:VEVENT
DTSTART;TZID=UTC:20240131T180000
DTEND;TZID=UTC:20240131T200000
DTSTAMP:20260420T133337
CREATED:20231130T195814Z
LAST-MODIFIED:20231130T195814Z
UID:5913-1706724000-1706731200@www.kingdomlife.global
SUMMARY:Community Night
DESCRIPTION:We start off the night with a meal together at 6pm.\n6:30pm Kingdom Kids (4yr old – 5th grade)\nKingdom Culture Youth (6th-12th grade) \nThe adults will stay together following dinner for a time of learning how to transform our lives through the power of prayer\, the Word\, and the Spirit so that we can impact our church\, our families\, ourselves\, and our nation for such a time as this.
URL:https://www.kingdomlife.global/event/community-night-1-31-24/
END:VEVENT
BEGIN:VEVENT
DTSTART;TZID=UTC:20240131T190000
DTEND;TZID=UTC:20240131T200000
DTSTAMP:20260420T133337
CREATED:20240131T184641Z
LAST-MODIFIED:20240131T184641Z
UID:6110-1706727600-1706731200@www.kingdomlife.global
SUMMARY:Elder's Meeting
DESCRIPTION:The Elders of KLCC meet regularly with Pastor Stephen to help spiritually lead the church.
URL:https://www.kingdomlife.global/event/elders-meeting-33/
END:VEVENT
END:VCALENDAR