BEGIN:VCALENDAR
VERSION:2.0
PRODID:-//Kingdom Life - ECPv6.15.17//NONSGML v1.0//EN
CALSCALE:GREGORIAN
METHOD:PUBLISH
X-ORIGINAL-URL:https://www.kingdomlife.global
X-WR-CALDESC:Events for Kingdom Life
REFRESH-INTERVAL;VALUE=DURATION:PT1H
X-Robots-Tag:noindex
X-PUBLISHED-TTL:PT1H
BEGIN:VTIMEZONE
TZID:UTC
BEGIN:STANDARD
TZOFFSETFROM:+0000
TZOFFSETTO:+0000
TZNAME:UTC
DTSTART:20230101T000000
END:STANDARD
END:VTIMEZONE
BEGIN:VEVENT
DTSTART;TZID=UTC:20240202T173000
DTEND;TZID=UTC:20240202T200000
DTSTAMP:20260419T124408
CREATED:20240110T150744Z
LAST-MODIFIED:20240110T194322Z
UID:6008-1706895000-1706904000@www.kingdomlife.global
SUMMARY:Kingdom Women's Get Together
DESCRIPTION:Ladies\, you are invited to an evening of delicious food\, fun\, laughter\, and fellowship on Friday\, February 2nd. You can arrive any time after 5:30\, and we’ll eat dinner around 6 pm! \nWe’re asking everyone to bring something from your home that for whatever reason\, is deeply special. Everyone will have an opportunity to share what it is you’ve brought and the story of why it holds special significance to you. Please let the office or Karen Vroman know if you plan on coming!
URL:https://www.kingdomlife.global/event/kingdom-womens-get-together/
END:VEVENT
END:VCALENDAR