BEGIN:VCALENDAR
VERSION:2.0
PRODID:-//Kingdom Life - ECPv6.15.17//NONSGML v1.0//EN
CALSCALE:GREGORIAN
METHOD:PUBLISH
X-ORIGINAL-URL:https://www.kingdomlife.global
X-WR-CALDESC:Events for Kingdom Life
REFRESH-INTERVAL;VALUE=DURATION:PT1H
X-Robots-Tag:noindex
X-PUBLISHED-TTL:PT1H
BEGIN:VTIMEZONE
TZID:UTC
BEGIN:STANDARD
TZOFFSETFROM:+0000
TZOFFSETTO:+0000
TZNAME:UTC
DTSTART:20230101T000000
END:STANDARD
END:VTIMEZONE
BEGIN:VEVENT
DTSTART;TZID=UTC:20240218T090000
DTEND;TZID=UTC:20240218T094500
DTSTAMP:20260420T102740
CREATED:20231227T171952Z
LAST-MODIFIED:20231227T171952Z
UID:5976-1708246800-1708249500@www.kingdomlife.global
SUMMARY:Sunday School
DESCRIPTION:Sunday school classes are available for all ages. \nCome early for intercessory prayer at 8:15 am or something from the café 8-9 am.
URL:https://www.kingdomlife.global/event/sunday-school-2-18-24/
END:VEVENT
BEGIN:VEVENT
DTSTART;TZID=UTC:20240218T100000
DTEND;TZID=UTC:20240218T110000
DTSTAMP:20260420T102740
CREATED:20240207T191313Z
LAST-MODIFIED:20240207T191313Z
UID:6122-1708250400-1708254000@www.kingdomlife.global
SUMMARY:Victory Center Canned Food Drive
DESCRIPTION:Ray Giminez will be our guest speaker Sunday\, Feb 18. We would like to bless The Victory Center as a church with donations of canned food—specific needs are for canned fruits & veggies. Please drop offdonations by the East or Café entrances from now until Sunday\, February 18! \n 
URL:https://www.kingdomlife.global/event/victory-center-canned-food-drive/
END:VEVENT
BEGIN:VEVENT
DTSTART;TZID=UTC:20240218T100000
DTEND;TZID=UTC:20240218T113000
DTSTAMP:20260420T102740
CREATED:20231227T172951Z
LAST-MODIFIED:20231227T172951Z
UID:5984-1708250400-1708255800@www.kingdomlife.global
SUMMARY:Worship Service
DESCRIPTION:Nursery available for infants – 3 years old\nChildren’s Church is available for the 4 years old – 2nd grade\nIf you are unable to join us in person\, we stream on Facebook\, YouTube\, and our website
URL:https://www.kingdomlife.global/event/worship-service-2-18-24/
END:VEVENT
BEGIN:VEVENT
DTSTART;TZID=UTC:20240218T180000
DTEND;TZID=UTC:20240218T220000
DTSTAMP:20260420T102740
CREATED:20240124T192741Z
LAST-MODIFIED:20240124T192741Z
UID:6085-1708279200-1708293600@www.kingdomlife.global
SUMMARY:Kingdom Culture Fun Night
DESCRIPTION:Join us for a fun night! Admission is a snack to share. Bring a friend or twelve and be ready for some awesome activities! Open to grades 6-12. \n 
URL:https://www.kingdomlife.global/event/kingdom-culture-fun-night/
END:VEVENT
END:VCALENDAR