BEGIN:VCALENDAR
VERSION:2.0
PRODID:-//Kingdom Life - ECPv6.15.17//NONSGML v1.0//EN
CALSCALE:GREGORIAN
METHOD:PUBLISH
X-WR-CALNAME:Kingdom Life
X-ORIGINAL-URL:https://www.kingdomlife.global
X-WR-CALDESC:Events for Kingdom Life
REFRESH-INTERVAL;VALUE=DURATION:PT1H
X-Robots-Tag:noindex
X-PUBLISHED-TTL:PT1H
BEGIN:VTIMEZONE
TZID:UTC
BEGIN:STANDARD
TZOFFSETFROM:+0000
TZOFFSETTO:+0000
TZNAME:UTC
DTSTART:20230101T000000
END:STANDARD
END:VTIMEZONE
BEGIN:VEVENT
DTSTART;VALUE=DATE:20240616
DTEND;VALUE=DATE:20240617
DTSTAMP:20260423T133242
CREATED:20240501T173746Z
LAST-MODIFIED:20240501T173746Z
UID:6338-1718496000-1718582399@www.kingdomlife.global
SUMMARY:Father's Day
DESCRIPTION:
URL:https://www.kingdomlife.global/event/fathers-day/
END:VEVENT
BEGIN:VEVENT
DTSTART;TZID=UTC:20240616T100000
DTEND;TZID=UTC:20240616T113000
DTSTAMP:20260423T133242
CREATED:20240611T182929Z
LAST-MODIFIED:20240611T182929Z
UID:6392-1718532000-1718537400@www.kingdomlife.global
SUMMARY:Worship Service
DESCRIPTION:Intercessory Prayer 9:15am\nWORSHIP 10am \nNursery is available for infants – 3 years old\nChildren’s Church is available for the 4 years old – 2nd grade\nIf you are unable to join us in person\, we stream on Facebook and YouTube!
URL:https://www.kingdomlife.global/event/worship-service-74/
END:VEVENT
END:VCALENDAR