BEGIN:VCALENDAR
VERSION:2.0
PRODID:-//Kingdom Life - ECPv6.15.17//NONSGML v1.0//EN
CALSCALE:GREGORIAN
METHOD:PUBLISH
X-ORIGINAL-URL:https://www.kingdomlife.global
X-WR-CALDESC:Events for Kingdom Life
REFRESH-INTERVAL;VALUE=DURATION:PT1H
X-Robots-Tag:noindex
X-PUBLISHED-TTL:PT1H
BEGIN:VTIMEZONE
TZID:UTC
BEGIN:STANDARD
TZOFFSETFROM:+0000
TZOFFSETTO:+0000
TZNAME:UTC
DTSTART:20230101T000000
END:STANDARD
END:VTIMEZONE
BEGIN:VEVENT
DTSTART;TZID=UTC:20240929T083000
DTEND;TZID=UTC:20240929T093000
DTSTAMP:20260422T153445
CREATED:20240904T183241Z
LAST-MODIFIED:20240904T183241Z
UID:6593-1727598600-1727602200@www.kingdomlife.global
SUMMARY:Cornerstone Cafe
DESCRIPTION:Cornerstone Cafe is open every Sunday from 8:30-9:30am. There are a good number of items for sale; breakfast sandwiches\, muffins\, candy\, pancake on a stick\, and soda. Once a month (usually the 1st Sunday of the month) we’ll have a hot breakfast served for donation. All proceeds go toward Kingdom Culture Youth.
URL:https://www.kingdomlife.global/event/cornerstone-cafe-3/
END:VEVENT
BEGIN:VEVENT
DTSTART;TZID=UTC:20240929T090000
DTEND;TZID=UTC:20240929T094500
DTSTAMP:20260422T153445
CREATED:20240819T191731Z
LAST-MODIFIED:20240918T183049Z
UID:6507-1727600400-1727603100@www.kingdomlife.global
SUMMARY:Sunday School
DESCRIPTION:Sunday school classes are available for all ages.
URL:https://www.kingdomlife.global/event/sunday-school-9-29-24/
END:VEVENT
BEGIN:VEVENT
DTSTART;TZID=UTC:20240929T100000
DTEND;TZID=UTC:20240929T113000
DTSTAMP:20260422T153445
CREATED:20240819T192101Z
LAST-MODIFIED:20240819T192101Z
UID:6515-1727604000-1727609400@www.kingdomlife.global
SUMMARY:Worship Service
DESCRIPTION:Nursery is available for infants – 3 years old\nChildren’s Church is available for the 4 years old – 2nd grade\nIf you are unable to join us in person\, we stream on Facebook and YouTube.
URL:https://www.kingdomlife.global/event/worship-service-9-29-24/
END:VEVENT
END:VCALENDAR