BEGIN:VCALENDAR
VERSION:2.0
PRODID:-//Kingdom Life - ECPv6.15.17//NONSGML v1.0//EN
CALSCALE:GREGORIAN
METHOD:PUBLISH
X-WR-CALNAME:Kingdom Life
X-ORIGINAL-URL:https://www.kingdomlife.global
X-WR-CALDESC:Events for Kingdom Life
REFRESH-INTERVAL;VALUE=DURATION:PT1H
X-Robots-Tag:noindex
X-PUBLISHED-TTL:PT1H
BEGIN:VTIMEZONE
TZID:UTC
BEGIN:STANDARD
TZOFFSETFROM:+0000
TZOFFSETTO:+0000
TZNAME:UTC
DTSTART:20230101T000000
END:STANDARD
END:VTIMEZONE
BEGIN:VEVENT
DTSTART;TZID=UTC:20240930T093000
DTEND;TZID=UTC:20240930T110000
DTSTAMP:20260422T153259
CREATED:20240819T192300Z
LAST-MODIFIED:20240819T192300Z
UID:6519-1727688600-1727694000@www.kingdomlife.global
SUMMARY:Kingdom Women Breakfast
DESCRIPTION:Ladies\, please join us for a time of breakfast & fellowship at Jenny’s Diner at 9:30am in Clinton! We generally meet the 2nd Tuesday and last Monday of each month.
URL:https://www.kingdomlife.global/event/kingdom-women-breakfast-9-30-24/
END:VEVENT
BEGIN:VEVENT
DTSTART;TZID=UTC:20240930T183000
DTEND;TZID=UTC:20240930T200000
DTSTAMP:20260422T153259
CREATED:20240819T192927Z
LAST-MODIFIED:20240819T192927Z
UID:6531-1727721000-1727726400@www.kingdomlife.global
SUMMARY:Prayer Meeting
DESCRIPTION:We believe in the power of prayer and feel if we want to see change in our church and families\, we need to meet regularly to pray.  Come join us on Mondays at 6:30pm.
URL:https://www.kingdomlife.global/event/prayer-meeting-9-30-24/
END:VEVENT
END:VCALENDAR