BEGIN:VCALENDAR
VERSION:2.0
PRODID:-//Kingdom Life - ECPv6.15.17//NONSGML v1.0//EN
CALSCALE:GREGORIAN
METHOD:PUBLISH
X-WR-CALNAME:Kingdom Life
X-ORIGINAL-URL:https://www.kingdomlife.global
X-WR-CALDESC:Events for Kingdom Life
REFRESH-INTERVAL;VALUE=DURATION:PT1H
X-Robots-Tag:noindex
X-PUBLISHED-TTL:PT1H
BEGIN:VTIMEZONE
TZID:UTC
BEGIN:STANDARD
TZOFFSETFROM:+0000
TZOFFSETTO:+0000
TZNAME:UTC
DTSTART:20230101T000000
END:STANDARD
END:VTIMEZONE
BEGIN:VEVENT
DTSTART;TZID=UTC:20241016T180000
DTEND;TZID=UTC:20241016T203000
DTSTAMP:20260424T101149
CREATED:20240918T184104Z
LAST-MODIFIED:20241008T192615Z
UID:6646-1729101600-1729110600@www.kingdomlife.global
SUMMARY:Pro-Life Youth Event
DESCRIPTION:at River Church in Clinton from 6-8:30pm \nThere will be food\, great worship\, testimonies and free stuff.  If you need a ride…please RSVP to Mama Vroman (309) 945-2525. We plan to leave KLCC promptly at 5:30pm and return about 9pm! \n 
URL:https://www.kingdomlife.global/event/pro-life-youth-event/
END:VEVENT
BEGIN:VEVENT
DTSTART;TZID=UTC:20241016T183000
DTEND;TZID=UTC:20241016T200000
DTSTAMP:20260424T101149
CREATED:20240918T184310Z
LAST-MODIFIED:20240918T184310Z
UID:6654-1729103400-1729108800@www.kingdomlife.global
SUMMARY:Kingdom Kids
DESCRIPTION:
URL:https://www.kingdomlife.global/event/kingdom-kids-4/
END:VEVENT
END:VCALENDAR