BEGIN:VCALENDAR
VERSION:2.0
PRODID:-//Kingdom Life - ECPv6.15.17//NONSGML v1.0//EN
CALSCALE:GREGORIAN
METHOD:PUBLISH
X-WR-CALNAME:Kingdom Life
X-ORIGINAL-URL:https://www.kingdomlife.global
X-WR-CALDESC:Events for Kingdom Life
REFRESH-INTERVAL;VALUE=DURATION:PT1H
X-Robots-Tag:noindex
X-PUBLISHED-TTL:PT1H
BEGIN:VTIMEZONE
TZID:UTC
BEGIN:STANDARD
TZOFFSETFROM:+0000
TZOFFSETTO:+0000
TZNAME:UTC
DTSTART:20230101T000000
END:STANDARD
END:VTIMEZONE
BEGIN:VEVENT
DTSTART;TZID=UTC:20241209T183000
DTEND;TZID=UTC:20241209T193000
DTSTAMP:20260422T130643
CREATED:20241112T192042Z
LAST-MODIFIED:20241112T192042Z
UID:6810-1733769000-1733772600@www.kingdomlife.global
SUMMARY:Prayer Meeting
DESCRIPTION:We believe in the power of prayer and feel if we want to see change in our church and families\, we need to meet regularly to pray.  Come join us on Mondays at 6:30pm.
URL:https://www.kingdomlife.global/event/prayer-meeting-12-9-24/
END:VEVENT
END:VCALENDAR