BEGIN:VCALENDAR
VERSION:2.0
PRODID:-//Kingdom Life - ECPv6.15.17//NONSGML v1.0//EN
CALSCALE:GREGORIAN
METHOD:PUBLISH
X-WR-CALNAME:Kingdom Life
X-ORIGINAL-URL:https://www.kingdomlife.global
X-WR-CALDESC:Events for Kingdom Life
REFRESH-INTERVAL;VALUE=DURATION:PT1H
X-Robots-Tag:noindex
X-PUBLISHED-TTL:PT1H
BEGIN:VTIMEZONE
TZID:UTC
BEGIN:STANDARD
TZOFFSETFROM:+0000
TZOFFSETTO:+0000
TZNAME:UTC
DTSTART:20230101T000000
END:STANDARD
END:VTIMEZONE
BEGIN:VEVENT
DTSTART;TZID=UTC:20241215T083000
DTEND;TZID=UTC:20241215T093000
DTSTAMP:20260422T130644
CREATED:20241008T202034Z
LAST-MODIFIED:20241008T202150Z
UID:6773-1734251400-1734255000@www.kingdomlife.global
SUMMARY:Cornerstone Cafe
DESCRIPTION:Cornerstone Cafe is open every Sunday from 8:30-9:30am. There are a good number of items for sale; breakfast sandwiches\, muffins\, candy\, pancake on a stick\, and soda. Once a month (usually the 1st Sunday of the month) we’ll have a hot breakfast served for donation. All proceeds go toward Kingdom Culture Youth.
URL:https://www.kingdomlife.global/event/cornerstone-cafe-12-15-24/
END:VEVENT
BEGIN:VEVENT
DTSTART;TZID=UTC:20241215T090000
DTEND;TZID=UTC:20241215T094500
DTSTAMP:20260422T130644
CREATED:20241008T201028Z
LAST-MODIFIED:20241008T201916Z
UID:6761-1734253200-1734255900@www.kingdomlife.global
SUMMARY:Sunday School
DESCRIPTION:Sunday school classes are available for all ages.\nCome early for intercessory prayer at 8 am or something from the café 8:30-9:30 am.
URL:https://www.kingdomlife.global/event/sunday-school-12-15-24/
END:VEVENT
BEGIN:VEVENT
DTSTART;TZID=UTC:20241215T100000
DTEND;TZID=UTC:20241215T113000
DTSTAMP:20260422T130644
CREATED:20241112T193012Z
LAST-MODIFIED:20241112T193012Z
UID:6826-1734256800-1734262200@www.kingdomlife.global
SUMMARY:Worship Service
DESCRIPTION:Nursery is available for infants – 3 years old\nChildren’s Church is available for the 4 years old – 2nd grade\nIf you are unable to join us in person\, we stream on Facebook and YouTube.
URL:https://www.kingdomlife.global/event/worship-service-12-15-24/
END:VEVENT
END:VCALENDAR