BEGIN:VCALENDAR
VERSION:2.0
PRODID:-//Kingdom Life - ECPv6.15.17//NONSGML v1.0//EN
CALSCALE:GREGORIAN
METHOD:PUBLISH
X-ORIGINAL-URL:https://www.kingdomlife.global
X-WR-CALDESC:Events for Kingdom Life
REFRESH-INTERVAL;VALUE=DURATION:PT1H
X-Robots-Tag:noindex
X-PUBLISHED-TTL:PT1H
BEGIN:VTIMEZONE
TZID:UTC
BEGIN:STANDARD
TZOFFSETFROM:+0000
TZOFFSETTO:+0000
TZNAME:UTC
DTSTART:20230101T000000
END:STANDARD
END:VTIMEZONE
BEGIN:VEVENT
DTSTART;VALUE=DATE:20241224
DTEND;VALUE=DATE:20241226
DTSTAMP:20260421T045216
CREATED:20241112T193539Z
LAST-MODIFIED:20241112T193539Z
UID:6834-1734998400-1735171199@www.kingdomlife.global
SUMMARY:Office Closed
DESCRIPTION:
URL:https://www.kingdomlife.global/event/office-closed-21/
END:VEVENT
BEGIN:VEVENT
DTSTART;TZID=UTC:20241224T180000
DTEND;TZID=UTC:20241224T190000
DTSTAMP:20260421T045216
CREATED:20241112T193517Z
LAST-MODIFIED:20241112T193517Z
UID:6832-1735063200-1735066800@www.kingdomlife.global
SUMMARY:Christmas Eve Service
DESCRIPTION:Join us for an intimate time celebrating the birth of our Lord and Savior.
URL:https://www.kingdomlife.global/event/christmas-eve-service/
END:VEVENT
END:VCALENDAR