BEGIN:VCALENDAR
VERSION:2.0
PRODID:-//Kingdom Life - ECPv6.15.17//NONSGML v1.0//EN
CALSCALE:GREGORIAN
METHOD:PUBLISH
X-WR-CALNAME:Kingdom Life
X-ORIGINAL-URL:https://www.kingdomlife.global
X-WR-CALDESC:Events for Kingdom Life
REFRESH-INTERVAL;VALUE=DURATION:PT1H
X-Robots-Tag:noindex
X-PUBLISHED-TTL:PT1H
BEGIN:VTIMEZONE
TZID:UTC
BEGIN:STANDARD
TZOFFSETFROM:+0000
TZOFFSETTO:+0000
TZNAME:UTC
DTSTART:20240101T000000
END:STANDARD
END:VTIMEZONE
BEGIN:VEVENT
DTSTART;TZID=UTC:20250112T090000
DTEND;TZID=UTC:20250112T094500
DTSTAMP:20260420T164722
CREATED:20250121T181937Z
LAST-MODIFIED:20250121T181937Z
UID:6947-1736672400-1736675100@www.kingdomlife.global
SUMMARY:Sunday School
DESCRIPTION:Sunday school classes are available for all ages.\nCome early for intercessory prayer at 8 am or something from the café 8:30-9:30 am.
URL:https://www.kingdomlife.global/event/sunday-school-1-12-25/
END:VEVENT
BEGIN:VEVENT
DTSTART;TZID=UTC:20250112T100000
DTEND;TZID=UTC:20250112T233000
DTSTAMP:20260420T164722
CREATED:20250121T180646Z
LAST-MODIFIED:20250121T180646Z
UID:6931-1736676000-1736724600@www.kingdomlife.global
SUMMARY:Worship Service
DESCRIPTION:Nursery is available for infants – 3 years old\nChildren’s Church is available for the 4 years old – 2nd grade\nIf you are unable to join us in person\, we stream on Facebook and YouTube.
URL:https://www.kingdomlife.global/event/worship-service-1-12-25/
END:VEVENT
BEGIN:VEVENT
DTSTART;TZID=UTC:20250112T123000
DTEND;TZID=UTC:20250112T143000
DTSTAMP:20260420T164722
CREATED:20241211T174651Z
LAST-MODIFIED:20241211T174651Z
UID:6871-1736685000-1736692200@www.kingdomlife.global
SUMMARY:CPR Training
DESCRIPTION:2 hour CPR training with Nia — more details to come.
URL:https://www.kingdomlife.global/event/cpr-training/
END:VEVENT
END:VCALENDAR