BEGIN:VCALENDAR
VERSION:2.0
PRODID:-//Kingdom Life - ECPv6.15.17//NONSGML v1.0//EN
CALSCALE:GREGORIAN
METHOD:PUBLISH
X-WR-CALNAME:Kingdom Life
X-ORIGINAL-URL:https://www.kingdomlife.global
X-WR-CALDESC:Events for Kingdom Life
REFRESH-INTERVAL;VALUE=DURATION:PT1H
X-Robots-Tag:noindex
X-PUBLISHED-TTL:PT1H
BEGIN:VTIMEZONE
TZID:UTC
BEGIN:STANDARD
TZOFFSETFROM:+0000
TZOFFSETTO:+0000
TZNAME:UTC
DTSTART:20240101T000000
END:STANDARD
END:VTIMEZONE
BEGIN:VEVENT
DTSTART;TZID=UTC:20250122T183000
DTEND;TZID=UTC:20250122T200000
DTSTAMP:20260424T101154
CREATED:20241211T175004Z
LAST-MODIFIED:20241211T175004Z
UID:6881-1737570600-1737576000@www.kingdomlife.global
SUMMARY:Kingdom Culture Youth
DESCRIPTION:Open to grades 6-12.
URL:https://www.kingdomlife.global/event/kingdom-culture-youth-10/
END:VEVENT
BEGIN:VEVENT
DTSTART;TZID=UTC:20250122T183000
DTEND;TZID=UTC:20250122T200000
DTSTAMP:20260424T101154
CREATED:20250121T175538Z
LAST-MODIFIED:20250121T175538Z
UID:6915-1737570600-1737576000@www.kingdomlife.global
SUMMARY:Kingdom Kids
DESCRIPTION:K – 5th Grade
URL:https://www.kingdomlife.global/event/kingdom-kids-7/
END:VEVENT
BEGIN:VEVENT
DTSTART;TZID=UTC:20250122T183000
DTEND;TZID=UTC:20250122T200000
DTSTAMP:20260424T101154
CREATED:20250121T175615Z
LAST-MODIFIED:20250121T175615Z
UID:6917-1737570600-1737576000@www.kingdomlife.global
SUMMARY:Worship and Prayer
DESCRIPTION:Adults are meeting tonight for a time of worship and prayer
URL:https://www.kingdomlife.global/event/worship-and-prayer/
END:VEVENT
END:VCALENDAR