BEGIN:VCALENDAR
VERSION:2.0
PRODID:-//Kingdom Life - ECPv6.15.17//NONSGML v1.0//EN
CALSCALE:GREGORIAN
METHOD:PUBLISH
X-WR-CALNAME:Kingdom Life
X-ORIGINAL-URL:https://www.kingdomlife.global
X-WR-CALDESC:Events for Kingdom Life
REFRESH-INTERVAL;VALUE=DURATION:PT1H
X-Robots-Tag:noindex
X-PUBLISHED-TTL:PT1H
BEGIN:VTIMEZONE
TZID:UTC
BEGIN:STANDARD
TZOFFSETFROM:+0000
TZOFFSETTO:+0000
TZNAME:UTC
DTSTART:20240101T000000
END:STANDARD
END:VTIMEZONE
BEGIN:VEVENT
DTSTART;TZID=UTC:20250130T183000
DTEND;TZID=UTC:20250130T200000
DTSTAMP:20260422T102551
CREATED:20250121T175905Z
LAST-MODIFIED:20250121T180350Z
UID:6919-1738261800-1738267200@www.kingdomlife.global
SUMMARY:Blake Small Group begins
DESCRIPTION:sign up on the Church Center App
URL:https://www.kingdomlife.global/event/blake-small-group-begins/
END:VEVENT
BEGIN:VEVENT
DTSTART;TZID=UTC:20250130T183000
DTEND;TZID=UTC:20250130T200000
DTSTAMP:20260422T102551
CREATED:20250121T180115Z
LAST-MODIFIED:20250121T180327Z
UID:6922-1738261800-1738267200@www.kingdomlife.global
SUMMARY:Welding Small Group begins
DESCRIPTION:sign up on the Church Center App
URL:https://www.kingdomlife.global/event/welding-small-group-begins/
END:VEVENT
END:VCALENDAR