BEGIN:VCALENDAR
VERSION:2.0
PRODID:-//Kingdom Life - ECPv6.15.17//NONSGML v1.0//EN
CALSCALE:GREGORIAN
METHOD:PUBLISH
X-ORIGINAL-URL:https://www.kingdomlife.global
X-WR-CALDESC:Events for Kingdom Life
REFRESH-INTERVAL;VALUE=DURATION:PT1H
X-Robots-Tag:noindex
X-PUBLISHED-TTL:PT1H
BEGIN:VTIMEZONE
TZID:UTC
BEGIN:STANDARD
TZOFFSETFROM:+0000
TZOFFSETTO:+0000
TZNAME:UTC
DTSTART:20240101T000000
END:STANDARD
END:VTIMEZONE
BEGIN:VEVENT
DTSTART;TZID=UTC:20250202T083000
DTEND;TZID=UTC:20250202T093000
DTSTAMP:20260420T133549
CREATED:20250127T192343Z
LAST-MODIFIED:20250127T192343Z
UID:6983-1738485000-1738488600@www.kingdomlife.global
SUMMARY:Hot Breakfast
DESCRIPTION:Stop in the cafe before Sunday School to enjoy a hot breakfast!
URL:https://www.kingdomlife.global/event/hot-breakfast-2-2-24/
END:VEVENT
BEGIN:VEVENT
DTSTART;TZID=UTC:20250202T090000
DTEND;TZID=UTC:20250202T094500
DTSTAMP:20260420T133549
CREATED:20250121T182141Z
LAST-MODIFIED:20250121T182141Z
UID:6953-1738486800-1738489500@www.kingdomlife.global
SUMMARY:Sunday School
DESCRIPTION:Sunday school classes are available for all ages.\nCome early for intercessory prayer at 8 am or something from the café 8:30-9:30 am.
URL:https://www.kingdomlife.global/event/sunday-school-2-2-25/
END:VEVENT
BEGIN:VEVENT
DTSTART;TZID=UTC:20250202T100000
DTEND;TZID=UTC:20250202T113000
DTSTAMP:20260420T133549
CREATED:20250121T180819Z
LAST-MODIFIED:20250121T180819Z
UID:6937-1738490400-1738495800@www.kingdomlife.global
SUMMARY:Worship Service
DESCRIPTION:Nursery is available for infants – 3 years old\nChildren’s Church is available for the 4 years old – 2nd grade\nIf you are unable to join us in person\, we stream on Facebook and YouTube.
URL:https://www.kingdomlife.global/event/worship-service-2-2-25/
END:VEVENT
END:VCALENDAR