BEGIN:VCALENDAR
VERSION:2.0
PRODID:-//Kingdom Life - ECPv6.15.17//NONSGML v1.0//EN
CALSCALE:GREGORIAN
METHOD:PUBLISH
X-ORIGINAL-URL:https://www.kingdomlife.global
X-WR-CALDESC:Events for Kingdom Life
REFRESH-INTERVAL;VALUE=DURATION:PT1H
X-Robots-Tag:noindex
X-PUBLISHED-TTL:PT1H
BEGIN:VTIMEZONE
TZID:UTC
BEGIN:STANDARD
TZOFFSETFROM:+0000
TZOFFSETTO:+0000
TZNAME:UTC
DTSTART:20240101T000000
END:STANDARD
END:VTIMEZONE
BEGIN:VEVENT
DTSTART;TZID=UTC:20250203T183000
DTEND;TZID=UTC:20250203T193000
DTSTAMP:20260420T121212
CREATED:20250130T151850Z
LAST-MODIFIED:20250130T151850Z
UID:6991-1738607400-1738611000@www.kingdomlife.global
SUMMARY:Prayer Meeting
DESCRIPTION:We believe in the power of prayer and feel if we want to see change in our church and families\, we need to meet regularly to pray.  Come join us on Mondays at 6:30pm.
URL:https://www.kingdomlife.global/event/prayer-meeting-29/
END:VEVENT
END:VCALENDAR