BEGIN:VCALENDAR
VERSION:2.0
PRODID:-//Kingdom Life - ECPv6.15.17//NONSGML v1.0//EN
CALSCALE:GREGORIAN
METHOD:PUBLISH
X-ORIGINAL-URL:https://www.kingdomlife.global
X-WR-CALDESC:Events for Kingdom Life
REFRESH-INTERVAL;VALUE=DURATION:PT1H
X-Robots-Tag:noindex
X-PUBLISHED-TTL:PT1H
BEGIN:VTIMEZONE
TZID:UTC
BEGIN:STANDARD
TZOFFSETFROM:+0000
TZOFFSETTO:+0000
TZNAME:UTC
DTSTART:20240101T000000
END:STANDARD
END:VTIMEZONE
BEGIN:VEVENT
DTSTART;TZID=UTC:20250204T180000
DTEND;TZID=UTC:20250204T200000
DTSTAMP:20260422T102038
CREATED:20250130T152008Z
LAST-MODIFIED:20250130T152008Z
UID:6995-1738692000-1738699200@www.kingdomlife.global
SUMMARY:Board of Directors Meeting
DESCRIPTION:Board of Directors will meet at 6pm.
URL:https://www.kingdomlife.global/event/board-of-directors-meeting-8/
END:VEVENT
END:VCALENDAR