BEGIN:VCALENDAR
VERSION:2.0
PRODID:-//Kingdom Life - ECPv6.15.17//NONSGML v1.0//EN
CALSCALE:GREGORIAN
METHOD:PUBLISH
X-ORIGINAL-URL:https://www.kingdomlife.global
X-WR-CALDESC:Events for Kingdom Life
REFRESH-INTERVAL;VALUE=DURATION:PT1H
X-Robots-Tag:noindex
X-PUBLISHED-TTL:PT1H
BEGIN:VTIMEZONE
TZID:UTC
BEGIN:STANDARD
TZOFFSETFROM:+0000
TZOFFSETTO:+0000
TZNAME:UTC
DTSTART:20240101T000000
END:STANDARD
END:VTIMEZONE
BEGIN:VEVENT
DTSTART;TZID=UTC:20250214T183000
DTEND;TZID=UTC:20250214T203000
DTSTAMP:20260420T121249
CREATED:20250127T194543Z
LAST-MODIFIED:20250127T194727Z
UID:6987-1739557800-1739565000@www.kingdomlife.global
SUMMARY:Couple's Valentine Dinner
DESCRIPTION:Couples’ dinner at Rastrelli’s Restaurant in Clinton.  Cost is $30 per person which includes a pizza and pasta buffet with their full salad bar and dessert. \nSignup required on the Church Center App. If you don’t have the app\, call the church office. Deadline to sign up is Monday\,\nFebruary 10. \n 
URL:https://www.kingdomlife.global/event/couples-valentine-dinner/
END:VEVENT
END:VCALENDAR