BEGIN:VCALENDAR
VERSION:2.0
PRODID:-//Kingdom Life - ECPv6.15.17//NONSGML v1.0//EN
CALSCALE:GREGORIAN
METHOD:PUBLISH
X-WR-CALNAME:Kingdom Life
X-ORIGINAL-URL:https://www.kingdomlife.global
X-WR-CALDESC:Events for Kingdom Life
REFRESH-INTERVAL;VALUE=DURATION:PT1H
X-Robots-Tag:noindex
X-PUBLISHED-TTL:PT1H
BEGIN:VTIMEZONE
TZID:UTC
BEGIN:STANDARD
TZOFFSETFROM:+0000
TZOFFSETTO:+0000
TZNAME:UTC
DTSTART:20240101T000000
END:STANDARD
END:VTIMEZONE
BEGIN:VEVENT
DTSTART;VALUE=DATE:20250217
DTEND;VALUE=DATE:20250218
DTSTAMP:20260420T133308
CREATED:20250121T182859Z
LAST-MODIFIED:20250121T182859Z
UID:6969-1739750400-1739836799@www.kingdomlife.global
SUMMARY:Office Closed
DESCRIPTION:In observance of Presidents’ Day
URL:https://www.kingdomlife.global/event/office-closed-2-17-25/
END:VEVENT
BEGIN:VEVENT
DTSTART;VALUE=DATE:20250217
DTEND;VALUE=DATE:20250218
DTSTAMP:20260420T133308
CREATED:20250130T152106Z
LAST-MODIFIED:20250130T152106Z
UID:6999-1739750400-1739836799@www.kingdomlife.global
SUMMARY:No Prayer Meeting
DESCRIPTION:
URL:https://www.kingdomlife.global/event/no-prayer-meeting/
END:VEVENT
END:VCALENDAR