BEGIN:VCALENDAR
VERSION:2.0
PRODID:-//Kingdom Life - ECPv6.15.17//NONSGML v1.0//EN
CALSCALE:GREGORIAN
METHOD:PUBLISH
X-WR-CALNAME:Kingdom Life
X-ORIGINAL-URL:https://www.kingdomlife.global
X-WR-CALDESC:Events for Kingdom Life
REFRESH-INTERVAL;VALUE=DURATION:PT1H
X-Robots-Tag:noindex
X-PUBLISHED-TTL:PT1H
BEGIN:VTIMEZONE
TZID:UTC
BEGIN:STANDARD
TZOFFSETFROM:+0000
TZOFFSETTO:+0000
TZNAME:UTC
DTSTART:20240101T000000
END:STANDARD
END:VTIMEZONE
BEGIN:VEVENT
DTSTART;TZID=UTC:20250218T190000
DTEND;TZID=UTC:20250218T200000
DTSTAMP:20260420T132934
CREATED:20250121T182928Z
LAST-MODIFIED:20250121T182928Z
UID:6971-1739905200-1739908800@www.kingdomlife.global
SUMMARY:Elders Meeting
DESCRIPTION:
URL:https://www.kingdomlife.global/event/elders-meeting-2-18-25/
END:VEVENT
END:VCALENDAR