BEGIN:VCALENDAR
VERSION:2.0
PRODID:-//Kingdom Life - ECPv6.15.17//NONSGML v1.0//EN
CALSCALE:GREGORIAN
METHOD:PUBLISH
X-WR-CALNAME:Kingdom Life
X-ORIGINAL-URL:https://www.kingdomlife.global
X-WR-CALDESC:Events for Kingdom Life
REFRESH-INTERVAL;VALUE=DURATION:PT1H
X-Robots-Tag:noindex
X-PUBLISHED-TTL:PT1H
BEGIN:VTIMEZONE
TZID:UTC
BEGIN:STANDARD
TZOFFSETFROM:+0000
TZOFFSETTO:+0000
TZNAME:UTC
DTSTART:20240101T000000
END:STANDARD
END:VTIMEZONE
BEGIN:VEVENT
DTSTART;TZID=UTC:20250402T183000
DTEND;TZID=UTC:20250402T200000
DTSTAMP:20260420T132822
CREATED:20250305T173804Z
LAST-MODIFIED:20250305T173804Z
UID:7116-1743618600-1743624000@www.kingdomlife.global
SUMMARY:Kingdom Culture Youth
DESCRIPTION:Open to grades 6-12.
URL:https://www.kingdomlife.global/event/kingdom-culture-youth-4-2-25/
END:VEVENT
END:VCALENDAR