BEGIN:VCALENDAR
VERSION:2.0
PRODID:-//Kingdom Life - ECPv6.15.17//NONSGML v1.0//EN
CALSCALE:GREGORIAN
METHOD:PUBLISH
X-WR-CALNAME:Kingdom Life
X-ORIGINAL-URL:https://www.kingdomlife.global
X-WR-CALDESC:Events for Kingdom Life
REFRESH-INTERVAL;VALUE=DURATION:PT1H
X-Robots-Tag:noindex
X-PUBLISHED-TTL:PT1H
BEGIN:VTIMEZONE
TZID:UTC
BEGIN:STANDARD
TZOFFSETFROM:+0000
TZOFFSETTO:+0000
TZNAME:UTC
DTSTART:20240101T000000
END:STANDARD
END:VTIMEZONE
BEGIN:VEVENT
DTSTART;TZID=UTC:20250408T093000
DTEND;TZID=UTC:20250408T110000
DTSTAMP:20260422T120353
CREATED:20250305T173525Z
LAST-MODIFIED:20250305T173525Z
UID:7110-1744104600-1744110000@www.kingdomlife.global
SUMMARY:Kingdom Women Breakfast
DESCRIPTION:Ladies\, please join us for a time of breakfast & fellowship at Jenny’s Diner at 9:30am in Clinton! We generally meet the 2nd Tuesday of each month.
URL:https://www.kingdomlife.global/event/kingdom-women-breakfast-4-8-25/
END:VEVENT
END:VCALENDAR