BEGIN:VCALENDAR
VERSION:2.0
PRODID:-//Kingdom Life - ECPv6.15.17//NONSGML v1.0//EN
CALSCALE:GREGORIAN
METHOD:PUBLISH
X-ORIGINAL-URL:https://www.kingdomlife.global
X-WR-CALDESC:Events for Kingdom Life
REFRESH-INTERVAL;VALUE=DURATION:PT1H
X-Robots-Tag:noindex
X-PUBLISHED-TTL:PT1H
BEGIN:VTIMEZONE
TZID:UTC
BEGIN:STANDARD
TZOFFSETFROM:+0000
TZOFFSETTO:+0000
TZNAME:UTC
DTSTART:20240101T000000
END:STANDARD
END:VTIMEZONE
BEGIN:VEVENT
DTSTART;TZID=UTC:20250426T080000
DTEND;TZID=UTC:20250426T120000
DTSTAMP:20260424T144151
CREATED:20250326T193719Z
LAST-MODIFIED:20250326T193719Z
UID:7181-1745654400-1745668800@www.kingdomlife.global
SUMMARY:Walk for Life
DESCRIPTION:The Pregnancy Center’s 39th Annual WALK FOR LIFE will be held on Saturday\, April 26\, 2025 and our theme is WALK FOR THEM BOTH. Gather your family & friends and meet us @The Pregnancy Center office (240 N. Bluff Blvd in Clinton).  We will have coffee and refreshments for you. Registration is at 8:15am (bring your completed pledge form) and we walk @ 9am (or walk on your own time).  This year our fundraiser goal is $50\,000\, simply ask your family & friends to make a financial pledge and we will bill them at a later date.  Any questions: 563-242-6628.  Thank you for your support!
URL:https://www.kingdomlife.global/event/walk-for-life/
END:VEVENT
END:VCALENDAR