BEGIN:VCALENDAR
VERSION:2.0
PRODID:-//Kingdom Life - ECPv6.15.17//NONSGML v1.0//EN
CALSCALE:GREGORIAN
METHOD:PUBLISH
X-ORIGINAL-URL:https://www.kingdomlife.global
X-WR-CALDESC:Events for Kingdom Life
REFRESH-INTERVAL;VALUE=DURATION:PT1H
X-Robots-Tag:noindex
X-PUBLISHED-TTL:PT1H
BEGIN:VTIMEZONE
TZID:UTC
BEGIN:STANDARD
TZOFFSETFROM:+0000
TZOFFSETTO:+0000
TZNAME:UTC
DTSTART:20240101T000000
END:STANDARD
END:VTIMEZONE
BEGIN:VEVENT
DTSTART;VALUE=DATE:20250628
DTEND;VALUE=DATE:20250703
DTSTAMP:20260425T120739
CREATED:20250310T193151Z
LAST-MODIFIED:20250310T193213Z
UID:7162-1751068800-1751500799@www.kingdomlife.global
SUMMARY:Camp Harvest
DESCRIPTION:This summer\, come experience a camp where you’ll not only have tons of fun\, but also deepen your relationship with the Lord! The first 10 campers get a special rate of just $200. After that\, the cost is $267. To reserve your spot\, be sure to contact Mama Vroman and send your $50 payment in. We’d love to take as many campers as possible and will have fundraising opportunities coming up!
URL:https://www.kingdomlife.global/event/camp-harvest/
END:VEVENT
END:VCALENDAR