BEGIN:VCALENDAR
VERSION:2.0
PRODID:-//Kingdom Life - ECPv6.15.17//NONSGML v1.0//EN
CALSCALE:GREGORIAN
METHOD:PUBLISH
X-ORIGINAL-URL:https://www.kingdomlife.global
X-WR-CALDESC:Events for Kingdom Life
REFRESH-INTERVAL;VALUE=DURATION:PT1H
X-Robots-Tag:noindex
X-PUBLISHED-TTL:PT1H
BEGIN:VTIMEZONE
TZID:UTC
BEGIN:STANDARD
TZOFFSETFROM:+0000
TZOFFSETTO:+0000
TZNAME:UTC
DTSTART:20240101T000000
END:STANDARD
END:VTIMEZONE
BEGIN:VEVENT
DTSTART;TZID=UTC:20250713T100000
DTEND;TZID=UTC:20250713T113000
DTSTAMP:20260425T115837
CREATED:20250515T162712Z
LAST-MODIFIED:20250612T155503Z
UID:7270-1752400800-1752406200@www.kingdomlife.global
SUMMARY:Worship Service
DESCRIPTION:Nursery is available for infants – 3 years old\nChildren’s Church is available for the 4 years old – 2nd grade
URL:https://www.kingdomlife.global/event/worship-service-7-13-25/
END:VEVENT
END:VCALENDAR