BEGIN:VCALENDAR
VERSION:2.0
PRODID:-//Kingdom Life - ECPv6.15.17//NONSGML v1.0//EN
CALSCALE:GREGORIAN
METHOD:PUBLISH
X-ORIGINAL-URL:https://www.kingdomlife.global
X-WR-CALDESC:Events for Kingdom Life
REFRESH-INTERVAL;VALUE=DURATION:PT1H
X-Robots-Tag:noindex
X-PUBLISHED-TTL:PT1H
BEGIN:VTIMEZONE
TZID:UTC
BEGIN:STANDARD
TZOFFSETFROM:+0000
TZOFFSETTO:+0000
TZNAME:UTC
DTSTART:20240101T000000
END:STANDARD
END:VTIMEZONE
BEGIN:VEVENT
DTSTART;TZID=UTC:20250730T180000
DTEND;TZID=UTC:20250730T200000
DTSTAMP:20260419T191626
CREATED:20250515T162422Z
LAST-MODIFIED:20250515T162422Z
UID:7266-1753898400-1753905600@www.kingdomlife.global
SUMMARY:Kingdom Culture Youth
DESCRIPTION:All students entering 6th grade – high school are invited this summer.  We meet weekly and have some fun activities planned.
URL:https://www.kingdomlife.global/event/kingdom-culture-youth-7-30-25/
END:VEVENT
END:VCALENDAR