BEGIN:VCALENDAR
VERSION:2.0
PRODID:-//Kingdom Life - ECPv6.15.17//NONSGML v1.0//EN
CALSCALE:GREGORIAN
METHOD:PUBLISH
X-ORIGINAL-URL:https://www.kingdomlife.global
X-WR-CALDESC:Events for Kingdom Life
REFRESH-INTERVAL;VALUE=DURATION:PT1H
X-Robots-Tag:noindex
X-PUBLISHED-TTL:PT1H
BEGIN:VTIMEZONE
TZID:UTC
BEGIN:STANDARD
TZOFFSETFROM:+0000
TZOFFSETTO:+0000
TZNAME:UTC
DTSTART:20240101T000000
END:STANDARD
END:VTIMEZONE
BEGIN:VEVENT
DTSTART;TZID=UTC:20250803T090000
DTEND;TZID=UTC:20250803T094500
DTSTAMP:20260421T094015
CREATED:20250731T163045Z
LAST-MODIFIED:20250731T163045Z
UID:7565-1754211600-1754214300@www.kingdomlife.global
SUMMARY:Intercessory Prayer
DESCRIPTION:
URL:https://www.kingdomlife.global/event/intercessory-prayer/
END:VEVENT
BEGIN:VEVENT
DTSTART;TZID=UTC:20250803T100000
DTEND;TZID=UTC:20250803T114500
DTSTAMP:20260421T094015
CREATED:20250612T154500Z
LAST-MODIFIED:20250612T154500Z
UID:7401-1754215200-1754221500@www.kingdomlife.global
SUMMARY:Worship Service
DESCRIPTION:Nursery is available for infants – 3 years old\nChildren’s Church is available for the 4 years old – 2nd grade
URL:https://www.kingdomlife.global/event/worship-service-8-3-25/
END:VEVENT
END:VCALENDAR