BEGIN:VCALENDAR
VERSION:2.0
PRODID:-//Kingdom Life - ECPv6.15.17//NONSGML v1.0//EN
CALSCALE:GREGORIAN
METHOD:PUBLISH
X-ORIGINAL-URL:https://www.kingdomlife.global
X-WR-CALDESC:Events for Kingdom Life
REFRESH-INTERVAL;VALUE=DURATION:PT1H
X-Robots-Tag:noindex
X-PUBLISHED-TTL:PT1H
BEGIN:VTIMEZONE
TZID:UTC
BEGIN:STANDARD
TZOFFSETFROM:+0000
TZOFFSETTO:+0000
TZNAME:UTC
DTSTART:20240101T000000
END:STANDARD
END:VTIMEZONE
BEGIN:VEVENT
DTSTART;VALUE=DATE:20250804
DTEND;VALUE=DATE:20250809
DTSTAMP:20260423T132354
CREATED:20250528T164359Z
LAST-MODIFIED:20250612T153924Z
UID:7302-1754265600-1754697599@www.kingdomlife.global
SUMMARY:Morrison VBS 6pm-8:15pm
DESCRIPTION:August 4-8 from 6-8:15pm\nSave the Date for Morrison’s Vacation Bible School at Ebenezer Reformed Church! This year’s theme is True North: Trusting Jesus in a Wild World. Sign up here. \n 
URL:https://www.kingdomlife.global/event/morrison-vbs-7/
LOCATION:Ebenezer Reformed Church\, 309 E Park St\, Morrison\, IL\, 61270\, United States
END:VEVENT
BEGIN:VEVENT
DTSTART;TZID=UTC:20250806T180000
DTEND;TZID=UTC:20250806T200000
DTSTAMP:20260423T132354
CREATED:20250604T193805Z
LAST-MODIFIED:20250604T193805Z
UID:7334-1754503200-1754510400@www.kingdomlife.global
SUMMARY:Kingdom Culture Youth
DESCRIPTION:All students entering 6th grade – high school are invited this summer.  We meet weekly and have some fun activities planned.
URL:https://www.kingdomlife.global/event/kingdom-culture-youth-17/
END:VEVENT
END:VCALENDAR