BEGIN:VCALENDAR
VERSION:2.0
PRODID:-//Kingdom Life - ECPv6.15.17//NONSGML v1.0//EN
CALSCALE:GREGORIAN
METHOD:PUBLISH
X-WR-CALNAME:Kingdom Life
X-ORIGINAL-URL:https://www.kingdomlife.global
X-WR-CALDESC:Events for Kingdom Life
REFRESH-INTERVAL;VALUE=DURATION:PT1H
X-Robots-Tag:noindex
X-PUBLISHED-TTL:PT1H
BEGIN:VTIMEZONE
TZID:UTC
BEGIN:STANDARD
TZOFFSETFROM:+0000
TZOFFSETTO:+0000
TZNAME:UTC
DTSTART:20220101T000000
END:STANDARD
END:VTIMEZONE
BEGIN:VEVENT
DTSTART;TZID=UTC:20230304T090000
DTEND;TZID=UTC:20230304T110000
DTSTAMP:20260420T132505
CREATED:20230117T161553Z
LAST-MODIFIED:20230117T161553Z
UID:5005-1677920400-1677927600@www.kingdomlife.global
SUMMARY:No Women's Bible Study
DESCRIPTION:We will not be meeting this week because of local women’s conferences.
URL:https://www.kingdomlife.global/event/no-womens-bible-study/
LOCATION:Kingdom Life Community Church\, 11429 Ward Rd.\, Morrison\, IL\, 61270\, United States
END:VEVENT
BEGIN:VEVENT
DTSTART;TZID=UTC:20230301T180000
DTEND;TZID=UTC:20230301T200000
DTSTAMP:20260420T132505
CREATED:20230214T172701Z
LAST-MODIFIED:20230214T172836Z
UID:5149-1677693600-1677700800@www.kingdomlife.global
SUMMARY:Community Night
DESCRIPTION:We start off the night with a meal together at 6pm. 6:30pm Kingdom Kids (4yr old – 5th grade) Kingdom Culture Youth (6th-12th grade) Adults will stay together to connect and share.
URL:https://www.kingdomlife.global/event/community-night-36/
LOCATION:Kingdom Life Community Church\, 11429 Ward Rd.\, Morrison\, IL\, 61270\, United States
END:VEVENT
BEGIN:VEVENT
DTSTART;TZID=UTC:20230227T190000
DTEND;TZID=UTC:20230227T200000
DTSTAMP:20260420T132505
CREATED:20230110T162738Z
LAST-MODIFIED:20230110T162738Z
UID:4975-1677524400-1677528000@www.kingdomlife.global
SUMMARY:Prayer Meeting
DESCRIPTION:This is an intentional time of Spirit-led prayer.
URL:https://www.kingdomlife.global/event/prayer-meeting-17/
LOCATION:Kingdom Life Community Church\, 11429 Ward Rd.\, Morrison\, IL\, 61270\, United States
END:VEVENT
BEGIN:VEVENT
DTSTART;TZID=UTC:20230226T100000
DTEND;TZID=UTC:20230226T113000
DTSTAMP:20260420T132505
CREATED:20230110T162240Z
LAST-MODIFIED:20230110T162240Z
UID:4961-1677405600-1677411000@www.kingdomlife.global
SUMMARY:Worship Service
DESCRIPTION:Nursery available for infants – 3 years old\n\n\n\nChildren’s Church is available for the 4 years old – 2nd grade \nIf you are unable to join us in person\, we stream on Facebook\, YouTube\, and our website
URL:https://www.kingdomlife.global/event/worship-service-48/
LOCATION:Kingdom Life Community Church\, 11429 Ward Rd.\, Morrison\, IL\, 61270\, United States
END:VEVENT
BEGIN:VEVENT
DTSTART;TZID=UTC:20230226T090000
DTEND;TZID=UTC:20230226T094500
DTSTAMP:20260420T132505
CREATED:20230110T161734Z
LAST-MODIFIED:20230110T161734Z
UID:4952-1677402000-1677404700@www.kingdomlife.global
SUMMARY:Sunday School
DESCRIPTION:Come early for intercessory prayer at 8:15am or coffee and donuts in the café at 8:30am. \nSunday school classes available for all ages.
URL:https://www.kingdomlife.global/event/sunday-school-13/
LOCATION:Kingdom Life Community Church\, 11429 Ward Rd.\, Morrison\, IL\, 61270\, United States
END:VEVENT
BEGIN:VEVENT
DTSTART;TZID=UTC:20230225T090000
DTEND;TZID=UTC:20230225T110000
DTSTAMP:20260420T132505
CREATED:20230110T161138Z
LAST-MODIFIED:20230110T161138Z
UID:4935-1677315600-1677322800@www.kingdomlife.global
SUMMARY:Women's Bible Study
DESCRIPTION:Join us from 9-11 as we go deep into the Word with the Armor of God study by Priscilla Shirer.
URL:https://www.kingdomlife.global/event/womens-bible-study-10/
LOCATION:Kingdom Life Community Church\, 11429 Ward Rd.\, Morrison\, IL\, 61270\, United States
END:VEVENT
BEGIN:VEVENT
DTSTART;VALUE=DATE:20230224
DTEND;VALUE=DATE:20230227
DTSTAMP:20260420T132505
CREATED:20221102T162944Z
LAST-MODIFIED:20221102T163223Z
UID:4783-1677196800-1677455999@www.kingdomlife.global
SUMMARY:Awake Conference
DESCRIPTION:click here for details and registration
URL:https://www.kingdomlife.global/event/awake-conference-3/
END:VEVENT
BEGIN:VEVENT
DTSTART;TZID=UTC:20230223T170000
DTEND;TZID=UTC:20230223T180000
DTSTAMP:20260420T132505
CREATED:20230214T172004Z
LAST-MODIFIED:20230214T172004Z
UID:5138-1677171600-1677175200@www.kingdomlife.global
SUMMARY:Victory Center Meal
DESCRIPTION:We will be making and serving a meal at the Victory Center in Clinton. Please call the office if you would like to help!
URL:https://www.kingdomlife.global/event/victory-center-meal-2/
LOCATION:The Victory Center
END:VEVENT
BEGIN:VEVENT
DTSTART;TZID=UTC:20230222T180000
DTEND;TZID=UTC:20230222T200000
DTSTAMP:20260420T132505
CREATED:20230110T163002Z
LAST-MODIFIED:20230110T163002Z
UID:4982-1677088800-1677096000@www.kingdomlife.global
SUMMARY:Community Night
DESCRIPTION:We start off the night with a meal together at 6pm. 6:30pm Kingdom Kids (4yr old – 5th grade) Kingdom Culture Youth (6th-12th grade) Adults will stay together to connect and share.
URL:https://www.kingdomlife.global/event/community-night-35/
LOCATION:Kingdom Life Community Church\, 11429 Ward Rd.\, Morrison\, IL\, 61270\, United States
END:VEVENT
BEGIN:VEVENT
DTSTART;TZID=UTC:20230221T190000
DTEND;TZID=UTC:20230221T200000
DTSTAMP:20260420T132505
CREATED:20230110T162447Z
LAST-MODIFIED:20230110T162447Z
UID:4966-1677006000-1677009600@www.kingdomlife.global
SUMMARY:Elder's Meeting
DESCRIPTION:The KLCC elders meet regularly with Pastors Steve and Ben to help spiritually lead the church.
URL:https://www.kingdomlife.global/event/elders-meeting-25/
LOCATION:Kingdom Life Community Church\, 11429 Ward Rd.\, Morrison\, IL\, 61270\, United States
END:VEVENT
BEGIN:VEVENT
DTSTART;TZID=UTC:20230220T190000
DTEND;TZID=UTC:20230220T200000
DTSTAMP:20260420T132505
CREATED:20230110T162703Z
LAST-MODIFIED:20230213T173125Z
UID:4973-1676919600-1676923200@www.kingdomlife.global
SUMMARY:Prayer Meeting- CANCELED
DESCRIPTION:This is an intentional time of Spirit-led prayer.
URL:https://www.kingdomlife.global/event/prayer-meeting-16/
LOCATION:Kingdom Life Community Church\, 11429 Ward Rd.\, Morrison\, IL\, 61270\, United States
END:VEVENT
BEGIN:VEVENT
DTSTART;TZID=UTC:20230220T080000
DTEND;TZID=UTC:20230220T160000
DTSTAMP:20260420T132505
CREATED:20230213T173041Z
LAST-MODIFIED:20230213T173041Z
UID:5078-1676880000-1676908800@www.kingdomlife.global
SUMMARY:Office Closed
DESCRIPTION:
URL:https://www.kingdomlife.global/event/office-closed-13/
LOCATION:Kingdom Life Community Church\, 11429 Ward Rd.\, Morrison\, IL\, 61270\, United States
END:VEVENT
BEGIN:VEVENT
DTSTART;TZID=UTC:20230219T100000
DTEND;TZID=UTC:20230219T113000
DTSTAMP:20260420T132505
CREATED:20230110T161936Z
LAST-MODIFIED:20230110T162205Z
UID:4958-1676800800-1676806200@www.kingdomlife.global
SUMMARY:Worship Service
DESCRIPTION:Nursery available for infants – 3 years old\n\n\n\nChildren’s Church is available for the 4 years old – 2nd grade \nIf you are unable to join us in person\, we stream on Facebook\, YouTube\, and our website
URL:https://www.kingdomlife.global/event/worship-service-47/
LOCATION:Kingdom Life Community Church\, 11429 Ward Rd.\, Morrison\, IL\, 61270\, United States
END:VEVENT
BEGIN:VEVENT
DTSTART;TZID=UTC:20230219T090000
DTEND;TZID=UTC:20230219T094500
DTSTAMP:20260420T132505
CREATED:20230110T161658Z
LAST-MODIFIED:20230110T161658Z
UID:4950-1676797200-1676799900@www.kingdomlife.global
SUMMARY:Sunday School
DESCRIPTION:Come early for intercessory prayer at 8:15am or coffee and donuts in the café at 8:30am. \nSunday school classes available for all ages.
URL:https://www.kingdomlife.global/event/sunday-school-12/
LOCATION:Kingdom Life Community Church\, 11429 Ward Rd.\, Morrison\, IL\, 61270\, United States
END:VEVENT
BEGIN:VEVENT
DTSTART;TZID=UTC:20230218T090000
DTEND;TZID=UTC:20230218T110000
DTSTAMP:20260420T132505
CREATED:20230110T161106Z
LAST-MODIFIED:20230110T161106Z
UID:4933-1676710800-1676718000@www.kingdomlife.global
SUMMARY:Women's Bible Study
DESCRIPTION:Join us from 9-11 as we go deep into the Word with the Armor of God study by Priscilla Shirer.
URL:https://www.kingdomlife.global/event/womens-bible-study-9/
LOCATION:Kingdom Life Community Church\, 11429 Ward Rd.\, Morrison\, IL\, 61270\, United States
END:VEVENT
BEGIN:VEVENT
DTSTART;TZID=UTC:20230215T180000
DTEND;TZID=UTC:20230215T200000
DTSTAMP:20260420T132505
CREATED:20230110T162929Z
LAST-MODIFIED:20230110T162929Z
UID:4980-1676484000-1676491200@www.kingdomlife.global
SUMMARY:Community Night
DESCRIPTION:We start off the night with a meal together at 6pm. 6:30pm Kingdom Kids (4yr old – 5th grade) Kingdom Culture Youth (6th-12th grade) Adults will stay together to connect and share.
URL:https://www.kingdomlife.global/event/community-night-34/
LOCATION:Kingdom Life Community Church\, 11429 Ward Rd.\, Morrison\, IL\, 61270\, United States
END:VEVENT
BEGIN:VEVENT
DTSTART;TZID=UTC:20230213T190000
DTEND;TZID=UTC:20230213T200000
DTSTAMP:20260420T132505
CREATED:20230110T162630Z
LAST-MODIFIED:20230110T162630Z
UID:4971-1676314800-1676318400@www.kingdomlife.global
SUMMARY:Prayer Meeting
DESCRIPTION:This is an intentional time of Spirit-led prayer.
URL:https://www.kingdomlife.global/event/prayer-meeting-15/
LOCATION:Kingdom Life Community Church\, 11429 Ward Rd.\, Morrison\, IL\, 61270\, United States
END:VEVENT
BEGIN:VEVENT
DTSTART;TZID=UTC:20230212T100000
DTEND;TZID=UTC:20230212T113000
DTSTAMP:20260420T132505
CREATED:20230110T161903Z
LAST-MODIFIED:20230110T162128Z
UID:4956-1676196000-1676201400@www.kingdomlife.global
SUMMARY:Worship Service
DESCRIPTION:Nursery available for infants – 3 years old\n\n\n\nChildren’s Church is available for the 4 years old – 2nd grade \nIf you are unable to join us in person\, we stream on Facebook\, YouTube\, and our website
URL:https://www.kingdomlife.global/event/worship-service-37/
LOCATION:Kingdom Life Community Church\, 11429 Ward Rd.\, Morrison\, IL\, 61270\, United States
END:VEVENT
BEGIN:VEVENT
DTSTART;TZID=UTC:20230212T090000
DTEND;TZID=UTC:20230212T094500
DTSTAMP:20260420T132505
CREATED:20230110T161541Z
LAST-MODIFIED:20230110T161541Z
UID:4945-1676192400-1676195100@www.kingdomlife.global
SUMMARY:Sunday School
DESCRIPTION:Come early for intercessory prayer at 8:15am or coffee and donuts in the café at 8:30am. \nSunday school classes available for all ages.
URL:https://www.kingdomlife.global/event/sunday-school-10/
LOCATION:Kingdom Life Community Church\, 11429 Ward Rd.\, Morrison\, IL\, 61270\, United States
END:VEVENT
BEGIN:VEVENT
DTSTART;TZID=UTC:20230211T090000
DTEND;TZID=UTC:20230211T110000
DTSTAMP:20260420T132505
CREATED:20230110T161033Z
LAST-MODIFIED:20230110T161033Z
UID:4931-1676106000-1676113200@www.kingdomlife.global
SUMMARY:Women's Bible Study
DESCRIPTION:Join us from 9-11 as we go deep into the Word with the Armor of God study by Priscilla Shirer.
URL:https://www.kingdomlife.global/event/womens-bible-study-8/
LOCATION:Kingdom Life Community Church\, 11429 Ward Rd.\, Morrison\, IL\, 61270\, United States
END:VEVENT
BEGIN:VEVENT
DTSTART;TZID=UTC:20230208T180000
DTEND;TZID=UTC:20230208T200000
DTSTAMP:20260420T132505
CREATED:20230110T162858Z
LAST-MODIFIED:20230110T162858Z
UID:4978-1675879200-1675886400@www.kingdomlife.global
SUMMARY:Community Night
DESCRIPTION:We start off the night with a meal together at 6pm. 6:30pm Kingdom Kids (4yr old – 5th grade) Kingdom Culture Youth (6th-12th grade) Adults will stay together to connect and share.
URL:https://www.kingdomlife.global/event/community-night-33/
LOCATION:Kingdom Life Community Church\, 11429 Ward Rd.\, Morrison\, IL\, 61270\, United States
END:VEVENT
BEGIN:VEVENT
DTSTART;TZID=UTC:20230208T093000
DTEND;TZID=UTC:20230208T110000
DTSTAMP:20260420T132505
CREATED:20230110T163104Z
LAST-MODIFIED:20230110T163104Z
UID:4985-1675848600-1675854000@www.kingdomlife.global
SUMMARY:Kingdom Women's Breakfast
DESCRIPTION:We meet monthly on the 2nd Wednesday at 9:30am at Jenny’s Diner in Clinton.  Join us if you can!
URL:https://www.kingdomlife.global/event/kingdom-womens-breakfast-2/
LOCATION:Jenny’s Diner\, 517 N 2nd St\, Clinton\, IA\, 52732
END:VEVENT
BEGIN:VEVENT
DTSTART;TZID=UTC:20230207T190000
DTEND;TZID=UTC:20230207T200000
DTSTAMP:20260420T132505
CREATED:20230110T162412Z
LAST-MODIFIED:20230110T162518Z
UID:4964-1675796400-1675800000@www.kingdomlife.global
SUMMARY:Elders Meeting
DESCRIPTION:The KLCC elders meet regularly with Pastors Steve and Ben to help spiritually lead the church.
URL:https://www.kingdomlife.global/event/elders-meeting-24/
LOCATION:Kingdom Life Community Church\, 11429 Ward Rd.\, Morrison\, IL\, 61270\, United States
END:VEVENT
BEGIN:VEVENT
DTSTART;TZID=UTC:20230206T190000
DTEND;TZID=UTC:20230206T200000
DTSTAMP:20260420T132505
CREATED:20230110T162605Z
LAST-MODIFIED:20230110T162605Z
UID:4969-1675710000-1675713600@www.kingdomlife.global
SUMMARY:Prayer Meeting
DESCRIPTION:This is an intentional time of Spirit-led prayer.
URL:https://www.kingdomlife.global/event/prayer-meeting-14/
LOCATION:Kingdom Life Community Church\, 11429 Ward Rd.\, Morrison\, IL\, 61270\, United States
END:VEVENT
BEGIN:VEVENT
DTSTART;TZID=UTC:20230205T100000
DTEND;TZID=UTC:20230205T113000
DTSTAMP:20260420T132505
CREATED:20230110T161832Z
LAST-MODIFIED:20230110T162056Z
UID:4954-1675591200-1675596600@www.kingdomlife.global
SUMMARY:Worship Service
DESCRIPTION:Nursery available for infants – 3 years old\n\n\n\nChildren’s Church is available for the 4 years old – 2nd grade \nIf you are unable to join us in person\, we stream on Facebook\, YouTube\, and our website
URL:https://www.kingdomlife.global/event/worship-service-36/
LOCATION:Kingdom Life Community Church\, 11429 Ward Rd.\, Morrison\, IL\, 61270\, United States
END:VEVENT
BEGIN:VEVENT
DTSTART;TZID=UTC:20230205T090000
DTEND;TZID=UTC:20230205T094500
DTSTAMP:20260420T132505
CREATED:20230110T161624Z
LAST-MODIFIED:20230110T161624Z
UID:4948-1675587600-1675590300@www.kingdomlife.global
SUMMARY:Sunday School
DESCRIPTION:Come early for intercessory prayer at 8:15am or coffee and donuts in the café at 8:30am. \nSunday school classes available for all ages.
URL:https://www.kingdomlife.global/event/sunday-school-11/
LOCATION:Kingdom Life Community Church\, 11429 Ward Rd.\, Morrison\, IL\, 61270\, United States
END:VEVENT
BEGIN:VEVENT
DTSTART;TZID=UTC:20230204T090000
DTEND;TZID=UTC:20230204T110000
DTSTAMP:20260420T132505
CREATED:20230110T160901Z
LAST-MODIFIED:20230110T160901Z
UID:4929-1675501200-1675508400@www.kingdomlife.global
SUMMARY:Women's Bible Study
DESCRIPTION:Join us from 9-11 as we go deep into the Word with the Armor of God study by Priscilla Shirer.
URL:https://www.kingdomlife.global/event/womens-bible-study-7/
LOCATION:Kingdom Life Community Church\, 11429 Ward Rd.\, Morrison\, IL\, 61270\, United States
END:VEVENT
BEGIN:VEVENT
DTSTART;TZID=UTC:20230201T180000
DTEND;TZID=UTC:20230201T200000
DTSTAMP:20260420T132505
CREATED:20230110T160536Z
LAST-MODIFIED:20230110T160536Z
UID:4924-1675274400-1675281600@www.kingdomlife.global
SUMMARY:Community Night (Prayer and Fasting)
DESCRIPTION:We start off the night with a meal together at 6pm. 6:30pm Kingdom Kids (4yr old – 5th grade) Kingdom Culture Youth (6th-12th grade) Adults will stay together to connect and share.
URL:https://www.kingdomlife.global/event/community-night-prayer-and-fasting-2/
LOCATION:Kingdom Life Community Church\, 11429 Ward Rd.\, Morrison\, IL\, 61270\, United States
END:VEVENT
BEGIN:VEVENT
DTSTART;TZID=UTC:20230130T190000
DTEND;TZID=UTC:20230130T200000
DTSTAMP:20260420T132505
CREATED:20221220T180833Z
LAST-MODIFIED:20221220T181437Z
UID:4878-1675105200-1675108800@www.kingdomlife.global
SUMMARY:Prayer Meeting
DESCRIPTION:This is an intentional time of Spirit-led prayer.
URL:https://www.kingdomlife.global/event/celebrate-recovery-51/
LOCATION:Kingdom Life Community Church\, 11429 Ward Rd.\, Morrison\, IL\, 61270\, United States
END:VEVENT
BEGIN:VEVENT
DTSTART;TZID=UTC:20230130T180000
DTEND;TZID=UTC:20230130T190000
DTSTAMP:20260420T132505
CREATED:20221220T180335Z
LAST-MODIFIED:20221220T180335Z
UID:4867-1675101600-1675105200@www.kingdomlife.global
SUMMARY:Celebrate Recovery
DESCRIPTION:Meets Monday evenings at 6 pm. The purpose is to provide a safe and confidential place to share and overcome our struggles together. We are not here to fix\, but to offer encouragement\, experience\, strength and hope. Click here for more information
URL:https://www.kingdomlife.global/event/celebrate-recovery-49/
LOCATION:Kingdom Life Community Church\, 11429 Ward Rd.\, Morrison\, IL\, 61270\, United States
END:VEVENT
END:VCALENDAR