BEGIN:VCALENDAR
VERSION:2.0
PRODID:-//Kingdom Life - ECPv6.15.17//NONSGML v1.0//EN
CALSCALE:GREGORIAN
METHOD:PUBLISH
X-WR-CALNAME:Kingdom Life
X-ORIGINAL-URL:https://www.kingdomlife.global
X-WR-CALDESC:Events for Kingdom Life
REFRESH-INTERVAL;VALUE=DURATION:PT1H
X-Robots-Tag:noindex
X-PUBLISHED-TTL:PT1H
BEGIN:VTIMEZONE
TZID:UTC
BEGIN:STANDARD
TZOFFSETFROM:+0000
TZOFFSETTO:+0000
TZNAME:UTC
DTSTART:20200101T000000
END:STANDARD
END:VTIMEZONE
BEGIN:VEVENT
DTSTART;TZID=UTC:20210803T190000
DTEND;TZID=UTC:20210803T200000
DTSTAMP:20260423T103954
CREATED:20210617T143419Z
LAST-MODIFIED:20210719T173518Z
UID:3323-1628017200-1628020800@www.kingdomlife.global
SUMMARY:Elders Meeting
DESCRIPTION:Meeting of the Elders of Kingdom Life Community Church as they help spiritually lead the church.
URL:https://www.kingdomlife.global/event/elders-meeting-8-3-21/
END:VEVENT
BEGIN:VEVENT
DTSTART;TZID=UTC:20210801T080000
DTEND;TZID=UTC:20210801T170000
DTSTAMP:20260423T103954
CREATED:20210608T143513Z
LAST-MODIFIED:20210608T143513Z
UID:3292-1627804800-1627837200@www.kingdomlife.global
SUMMARY:Worship Service
DESCRIPTION:Come early at 9am for a time of intercessory prayer. Worship service begins at 10am. Nursery available for infants – 3 years old Children’s Church is available for the 3-5 year olds who will be dismissed during the service. If you are unable to join us in person\, we stream on Facebook\, YouTube\, and our website.
URL:https://www.kingdomlife.global/event/worship-service-8/
LOCATION:Kingdom Life Community Church\, 11429 Ward Rd.\, Morrison\, IL\, 61270\, United States
END:VEVENT
BEGIN:VEVENT
DTSTART;TZID=UTC:20210730T090000
DTEND;TZID=UTC:20210730T150000
DTSTAMP:20260423T103954
CREATED:20210630T152741Z
LAST-MODIFIED:20210630T174704Z
UID:3391-1627635600-1627657200@www.kingdomlife.global
SUMMARY:Vacation Bible School
DESCRIPTION:Vacation Bible School July 26-30\n9am – 3pm\nK – 5th graders\nThe morning we will be at the church discovering we are priceless to God.  After lunch (bring your own)\, we will be having a blast doing different activities.\nA letter will go out close to camp with those details to those that are registered. \nClick here to download the registration form.  Return it to Michelle Huisingh or the church office by July 18 with your payment. \n 
URL:https://www.kingdomlife.global/event/vacation-bible-school-5/
LOCATION:Kingdom Life Community Church\, 11429 Ward Rd.\, Morrison\, IL\, 61270\, United States
END:VEVENT
BEGIN:VEVENT
DTSTART;TZID=UTC:20210729T090000
DTEND;TZID=UTC:20210729T150000
DTSTAMP:20260423T103954
CREATED:20210630T152659Z
LAST-MODIFIED:20210630T174640Z
UID:3389-1627549200-1627570800@www.kingdomlife.global
SUMMARY:Vacation Bible School
DESCRIPTION:Vacation Bible School July 26-30\n9am – 3pm\nK – 5th graders\nThe morning we will be at the church discovering we are priceless to God.  After lunch (bring your own)\, we will be having a blast doing different activities.\nA letter will go out close to camp with those details to those that are registered. \nClick here to download the registration form.  Return it to Michelle Huisingh or the church office by July 18 with your payment. \n 
URL:https://www.kingdomlife.global/event/vacation-bible-school-4/
LOCATION:Kingdom Life Community Church\, 11429 Ward Rd.\, Morrison\, IL\, 61270\, United States
END:VEVENT
BEGIN:VEVENT
DTSTART;TZID=UTC:20210728T090000
DTEND;TZID=UTC:20210728T150000
DTSTAMP:20260423T103954
CREATED:20210630T152615Z
LAST-MODIFIED:20210630T174608Z
UID:3387-1627462800-1627484400@www.kingdomlife.global
SUMMARY:Vacation Bible School
DESCRIPTION:Vacation Bible School July 26-30\n9am – 3pm\nK – 5th graders\nThe morning we will be at the church discovering we are priceless to God.  After lunch (bring your own)\, we will be having a blast doing different activities.\nA letter will go out close to camp with those details to those that are registered. \nClick here to download the registration form.  Return it to Michelle Huisingh or the church office by July 18 with your payment. \n 
URL:https://www.kingdomlife.global/event/vacation-bible-school-3/
LOCATION:Jenny’s Diner\, 517 N 2nd St\, Clinton\, IA\, 52732
END:VEVENT
BEGIN:VEVENT
DTSTART;TZID=UTC:20210727T090000
DTEND;TZID=UTC:20210727T150000
DTSTAMP:20260423T103954
CREATED:20210630T152533Z
LAST-MODIFIED:20210630T174458Z
UID:3385-1627376400-1627398000@www.kingdomlife.global
SUMMARY:Vacation Bible School
DESCRIPTION:Vacation Bible School July 26-30\n9am – 3pm\nK – 5th graders\n\nThe morning we will be at the church discovering we are priceless to God.  After lunch (bring your own)\, we will be having a blast doing different activities.\nA letter will go out close to camp with those details to those that are registered.\nClick here to download the registration form.  Return it to Michelle Huisingh or the church office by July 18 with your payment. \n 
URL:https://www.kingdomlife.global/event/vacation-bible-school-2/
LOCATION:Kingdom Life Community Church\, 11429 Ward Rd.\, Morrison\, IL\, 61270\, United States
END:VEVENT
BEGIN:VEVENT
DTSTART;TZID=UTC:20210726T090000
DTEND;TZID=UTC:20210726T150000
DTSTAMP:20260423T103954
CREATED:20210524T182223Z
LAST-MODIFIED:20210630T174423Z
UID:3264-1627290000-1627311600@www.kingdomlife.global
SUMMARY:Vacation Bible School
DESCRIPTION:Vacation Bible School July 26-30\n9am – 3pm\nK – 5th graders\n\nThe morning we will be at the church discovering we are priceless to God.  After lunch (bring your own)\, we will be having a blast doing different activities.\nA letter will go out close to camp with those details to those that are registered.\nClick here to download the registration form.  Return it to Michelle Huisingh or the church office by July 18 with your payment. \n 
URL:https://www.kingdomlife.global/event/vacation-bible-school/
LOCATION:Kingdom Life Community Church\, 11429 Ward Rd.\, Morrison\, IL\, 61270\, United States
END:VEVENT
BEGIN:VEVENT
DTSTART;TZID=UTC:20210725T090000
DTEND;TZID=UTC:20210725T120000
DTSTAMP:20260423T103954
CREATED:20210505T160524Z
LAST-MODIFIED:20210505T160524Z
UID:3214-1627203600-1627214400@www.kingdomlife.global
SUMMARY:Worship Service
DESCRIPTION:Come early at 9am for a time of intercessory prayer. Worship service begins at 10am. Nursery available for infants – 3 years old Children’s Church is available for the 3-5 year olds who will be dismissed during the service. If you are unable to join us in person\, we stream on Facebook\, YouTube\, and our website.
URL:https://www.kingdomlife.global/event/worship-service-7-25-21/
LOCATION:Kingdom Life Community Church\, 11429 Ward Rd.\, Morrison\, IL\, 61270\, United States
END:VEVENT
BEGIN:VEVENT
DTSTART;VALUE=DATE:20210723
DTEND;VALUE=DATE:20210726
DTSTAMP:20260423T103954
CREATED:20210428T190848Z
LAST-MODIFIED:20210428T191020Z
UID:3179-1626998400-1627257599@www.kingdomlife.global
SUMMARY:Awake Conference
DESCRIPTION:Many of our youth are attending Awake Conference in Ottumwa\, IA. \nAwake Flyer 2021 July \nSee youth leaders for more information.
URL:https://www.kingdomlife.global/event/awake-conference-2/
END:VEVENT
BEGIN:VEVENT
DTSTART;TZID=UTC:20210720T190000
DTEND;TZID=UTC:20210720T200000
DTSTAMP:20260423T103954
CREATED:20210617T143327Z
LAST-MODIFIED:20210617T143327Z
UID:3321-1626807600-1626811200@www.kingdomlife.global
SUMMARY:Elders Meeting
DESCRIPTION:Meeting of the Elders of Kingdom Life Community Church as they help spiritually lead the church.
URL:https://www.kingdomlife.global/event/elders-meeting-7-20-21/
END:VEVENT
BEGIN:VEVENT
DTSTART;TZID=UTC:20210718T090000
DTEND;TZID=UTC:20210718T120000
DTSTAMP:20260423T103954
CREATED:20210505T160446Z
LAST-MODIFIED:20210505T160446Z
UID:3212-1626598800-1626609600@www.kingdomlife.global
SUMMARY:Worship Service
DESCRIPTION:Come early at 9am for a time of intercessory prayer. Worship service begins at 10am. Nursery available for infants – 3 years old Children’s Church is available for the 3-5 year olds who will be dismissed during the service. If you are unable to join us in person\, we stream on Facebook\, YouTube\, and our website.
URL:https://www.kingdomlife.global/event/worship-service-7-18-21/
LOCATION:Kingdom Life Community Church\, 11429 Ward Rd.\, Morrison\, IL\, 61270\, United States
END:VEVENT
BEGIN:VEVENT
DTSTART;TZID=UTC:20210714T093000
DTEND;TZID=UTC:20210714T110000
DTSTAMP:20260423T103954
CREATED:20210505T160846Z
LAST-MODIFIED:20210505T160846Z
UID:3218-1626255000-1626260400@www.kingdomlife.global
SUMMARY:Kingdom Women Breakfast
DESCRIPTION:Join us at Jenny’s Café in Clinton for a time of food and fellowship. invite your friends! We meet on the second Wednesday of each month.
URL:https://www.kingdomlife.global/event/kingdom-women-breakfast-7-14-21/
LOCATION:Jenny’s Diner\, 517 N 2nd St\, Clinton\, IA\, 52732
END:VEVENT
BEGIN:VEVENT
DTSTART;TZID=UTC:20210711T090000
DTEND;TZID=UTC:20210711T120000
DTSTAMP:20260423T103954
CREATED:20210505T160409Z
LAST-MODIFIED:20210505T160409Z
UID:3210-1625994000-1626004800@www.kingdomlife.global
SUMMARY:Worship Service
DESCRIPTION:Come early at 9am for a time of intercessory prayer. Worship service begins at 10am. Nursery available for infants – 3 years old Children’s Church is available for the 3-5 year olds who will be dismissed during the service. If you are unable to join us in person\, we stream on Facebook\, YouTube\, and our website.
URL:https://www.kingdomlife.global/event/worship-service-7-11-21/
LOCATION:Kingdom Life Community Church\, 11429 Ward Rd.\, Morrison\, IL\, 61270\, United States
END:VEVENT
BEGIN:VEVENT
DTSTART;TZID=UTC:20210707T173000
DTEND;TZID=UTC:20210707T193000
DTSTAMP:20260423T103954
CREATED:20210610T195207Z
LAST-MODIFIED:20210623T150841Z
UID:3307-1625679000-1625686200@www.kingdomlife.global
SUMMARY:Picnic
DESCRIPTION:Join us for a time of food\, fellowship\, and games at our picnic.  The church is providing the food (hotdogs with sides).  You need only to decide to come and enjoy an evening with your church family.  Bring friends!
URL:https://www.kingdomlife.global/event/picnic/
LOCATION:Kingdom Life Community Church\, 11429 Ward Rd.\, Morrison\, IL\, 61270\, United States
END:VEVENT
BEGIN:VEVENT
DTSTART;TZID=UTC:20210706T190000
DTEND;TZID=UTC:20210706T200000
DTSTAMP:20260423T103955
CREATED:20210617T143126Z
LAST-MODIFIED:20210617T143609Z
UID:3318-1625598000-1625601600@www.kingdomlife.global
SUMMARY:Elders Meeting
DESCRIPTION:Meeting of the Elders of Kingdom Life Community Church as they help spiritually lead the church.
URL:https://www.kingdomlife.global/event/elders-meeting-7-6-21/
END:VEVENT
BEGIN:VEVENT
DTSTART;TZID=UTC:20210704T090000
DTEND;TZID=UTC:20210704T120000
DTSTAMP:20260423T103955
CREATED:20210505T160329Z
LAST-MODIFIED:20210505T160329Z
UID:3208-1625389200-1625400000@www.kingdomlife.global
SUMMARY:Worship Service
DESCRIPTION:Come early at 9am for a time of intercessory prayer. Worship service begins at 10am. Nursery available for infants – 3 years old Children’s Church is available for the 3-5 year olds who will be dismissed during the service. If you are unable to join us in person\, we stream on Facebook\, YouTube\, and our website.
URL:https://www.kingdomlife.global/event/worship-service-7-4-21/
LOCATION:Kingdom Life Community Church\, 11429 Ward Rd.\, Morrison\, IL\, 61270\, United States
END:VEVENT
BEGIN:VEVENT
DTSTART;VALUE=DATE:20210629
DTEND;VALUE=DATE:20210704
DTSTAMP:20260423T103955
CREATED:20210428T190538Z
LAST-MODIFIED:20210428T191317Z
UID:3176-1624924800-1625356799@www.kingdomlife.global
SUMMARY:BOLD Conference
DESCRIPTION:Many of our youth are attending BOLD CONFERENCE 2021 in Kansas City from June 29-July 3. \nBOLD FLYER 2021 \nSee youth leaders for more information. \nboldconference.org
URL:https://www.kingdomlife.global/event/bold-conference/
END:VEVENT
BEGIN:VEVENT
DTSTART;TZID=UTC:20210627T090000
DTEND;TZID=UTC:20210627T120000
DTSTAMP:20260423T103955
CREATED:20210505T160128Z
LAST-MODIFIED:20210505T160128Z
UID:3206-1624784400-1624795200@www.kingdomlife.global
SUMMARY:Worship Service
DESCRIPTION:Come early at 9am for a time of intercessory prayer. Worship service begins at 10am. Nursery available for infants – 3 years old Children’s Church is available for the 3-5 year olds who will be dismissed during the service. If you are unable to join us in person\, we stream on Facebook\, YouTube\, and our website.
URL:https://www.kingdomlife.global/event/worship-service-6-27-21/
LOCATION:Kingdom Life Community Church\, 11429 Ward Rd.\, Morrison\, IL\, 61270\, United States
END:VEVENT
BEGIN:VEVENT
DTSTART;TZID=UTC:20210620T090000
DTEND;TZID=UTC:20210620T120000
DTSTAMP:20260423T103955
CREATED:20210505T160050Z
LAST-MODIFIED:20210505T160050Z
UID:3204-1624179600-1624190400@www.kingdomlife.global
SUMMARY:Worship Service
DESCRIPTION:Come early at 9am for a time of intercessory prayer. Worship service begins at 10am. Nursery available for infants – 3 years old Children’s Church is available for the 3-5 year olds who will be dismissed during the service. If you are unable to join us in person\, we stream on Facebook\, YouTube\, and our website.
URL:https://www.kingdomlife.global/event/worship-service-6-20-21/
LOCATION:Kingdom Life Community Church\, 11429 Ward Rd.\, Morrison\, IL\, 61270\, United States
END:VEVENT
BEGIN:VEVENT
DTSTART;TZID=UTC:20210618T180000
DTEND;TZID=UTC:20210618T200000
DTSTAMP:20260423T103955
CREATED:20210428T190257Z
LAST-MODIFIED:20210428T190257Z
UID:3174-1624039200-1624046400@www.kingdomlife.global
SUMMARY:Morrison VBS
DESCRIPTION:Morrison Community VBS\nJune 14-18 6-8pm \n@ Morrison Junior High School \nfor more information and to register online www.myvbs.org/morrisonvbs
URL:https://www.kingdomlife.global/event/morrison-vbs-5/
END:VEVENT
BEGIN:VEVENT
DTSTART;TZID=UTC:20210617T180000
DTEND;TZID=UTC:20210617T200000
DTSTAMP:20260423T103955
CREATED:20210428T190232Z
LAST-MODIFIED:20210428T190232Z
UID:3172-1623952800-1623960000@www.kingdomlife.global
SUMMARY:Morrison VBS
DESCRIPTION:Morrison Community VBS\nJune 14-18 6-8pm \n@ Morrison Junior High School \nfor more information and to register online www.myvbs.org/morrisonvbs
URL:https://www.kingdomlife.global/event/morrison-vbs-4/
END:VEVENT
BEGIN:VEVENT
DTSTART;TZID=UTC:20210616T180000
DTEND;TZID=UTC:20210616T200000
DTSTAMP:20260423T103955
CREATED:20210428T190207Z
LAST-MODIFIED:20210428T190207Z
UID:3170-1623866400-1623873600@www.kingdomlife.global
SUMMARY:Morrison VBS
DESCRIPTION:Morrison Community VBS\nJune 14-18 6-8pm \n@ Morrison Junior High School \nfor more information and to register online www.myvbs.org/morrisonvbs
URL:https://www.kingdomlife.global/event/morrison-vbs-3/
END:VEVENT
BEGIN:VEVENT
DTSTART;TZID=UTC:20210615T190000
DTEND;TZID=UTC:20210615T200000
DTSTAMP:20260423T103955
CREATED:20210524T181934Z
LAST-MODIFIED:20210524T181934Z
UID:3262-1623783600-1623787200@www.kingdomlife.global
SUMMARY:Elders Meeting
DESCRIPTION:Meeting of the Elders of Kingdom Life Community Church as they help spiritually lead the church.
URL:https://www.kingdomlife.global/event/elders-meeting-12/
LOCATION:Kingdom Life Community Church\, 11429 Ward Rd.\, Morrison\, IL\, 61270\, United States
END:VEVENT
BEGIN:VEVENT
DTSTART;TZID=UTC:20210615T180000
DTEND;TZID=UTC:20210615T200000
DTSTAMP:20260423T103955
CREATED:20210428T190139Z
LAST-MODIFIED:20210428T190139Z
UID:3168-1623780000-1623787200@www.kingdomlife.global
SUMMARY:Morrison VBS
DESCRIPTION:Morrison Community VBS\nJune 14-18 6-8pm \n@ Morrison Junior High School \nfor more information and to register online www.myvbs.org/morrisonvbs
URL:https://www.kingdomlife.global/event/morrison-vbs-2/
END:VEVENT
BEGIN:VEVENT
DTSTART;TZID=UTC:20210614T180000
DTEND;TZID=UTC:20210614T200000
DTSTAMP:20260423T103955
CREATED:20210428T190055Z
LAST-MODIFIED:20210428T190055Z
UID:3166-1623693600-1623700800@www.kingdomlife.global
SUMMARY:Morrison VBS
DESCRIPTION:Morrison Community VBS\nJune 14-18 6-8pm \n@ Morrison Junior High School \nfor more information and to register online www.myvbs.org/morrisonvbs
URL:https://www.kingdomlife.global/event/morrison-vbs/
END:VEVENT
BEGIN:VEVENT
DTSTART;TZID=UTC:20210613T090000
DTEND;TZID=UTC:20210613T120000
DTSTAMP:20260423T103955
CREATED:20210505T160011Z
LAST-MODIFIED:20210505T160011Z
UID:3202-1623574800-1623585600@www.kingdomlife.global
SUMMARY:Worship Service
DESCRIPTION:Come early at 9am for a time of intercessory prayer. Worship service begins at 10am. Nursery available for infants – 3 years old Children’s Church is available for the 3-5 year olds who will be dismissed during the service. If you are unable to join us in person\, we stream on Facebook\, YouTube\, and our website.
URL:https://www.kingdomlife.global/event/worship-service-6-13-21/
LOCATION:Kingdom Life Community Church\, 11429 Ward Rd.\, Morrison\, IL\, 61270\, United States
END:VEVENT
BEGIN:VEVENT
DTSTART;TZID=UTC:20210609T173000
DTEND;TZID=UTC:20210609T200000
DTSTAMP:20260423T103955
CREATED:20210510T175729Z
LAST-MODIFIED:20210510T175729Z
UID:3237-1623259800-1623268800@www.kingdomlife.global
SUMMARY:Church Picnic
DESCRIPTION:Come join us for a picnic at the church.  The food and drinks are being provided\, so just come and enjoy!
URL:https://www.kingdomlife.global/event/church-picnic/
LOCATION:Kingdom Life Community Church\, 11429 Ward Rd.\, Morrison\, IL\, 61270\, United States
END:VEVENT
BEGIN:VEVENT
DTSTART;TZID=UTC:20210609T093000
DTEND;TZID=UTC:20210609T110000
DTSTAMP:20260423T103955
CREATED:20210505T160802Z
LAST-MODIFIED:20210505T160802Z
UID:3216-1623231000-1623236400@www.kingdomlife.global
SUMMARY:Kingdom Women Breakfast
DESCRIPTION:Join us at Jenny’s Café in Clinton for a time of food and fellowship. invite your friends! We meet on the second Wednesday of each month.
URL:https://www.kingdomlife.global/event/kingdom-women-breakfast-6-9-21/
LOCATION:Jenny’s Diner\, 517 N 2nd St\, Clinton\, IA\, 52732
END:VEVENT
BEGIN:VEVENT
DTSTART;TZID=UTC:20210608T153000
DTEND;TZID=UTC:20210608T180000
DTSTAMP:20260423T103955
CREATED:20210505T155213Z
LAST-MODIFIED:20210505T155430Z
UID:3196-1623166200-1623175200@www.kingdomlife.global
SUMMARY:Blood Drive
DESCRIPTION:If you can give\, call/text Merri @ 309-945-8216 or follow this link
URL:https://www.kingdomlife.global/event/blood-drive-3/
LOCATION:Kingdom Life Community Church\, 11429 Ward Rd.\, Morrison\, IL\, 61270\, United States
END:VEVENT
BEGIN:VEVENT
DTSTART;TZID=UTC:20210606T090000
DTEND;TZID=UTC:20210606T120000
DTSTAMP:20260423T103955
CREATED:20210505T155853Z
LAST-MODIFIED:20210505T155928Z
UID:3200-1622970000-1622980800@www.kingdomlife.global
SUMMARY:Worship Service
DESCRIPTION:Come early at 9am for a time of intercessory prayer. Worship service begins at 10am. Nursery available for infants – 3 years old Children’s Church is available for the 3-5 year olds who will be dismissed during the service. If you are unable to join us in person\, we stream on Facebook\, YouTube\, and our website.
URL:https://www.kingdomlife.global/event/worship-service-6-6-21/
LOCATION:Kingdom Life Community Church\, 11429 Ward Rd.\, Morrison\, IL\, 61270\, United States
END:VEVENT
END:VCALENDAR