BEGIN:VCALENDAR
VERSION:2.0
PRODID:-//Kingdom Life - ECPv6.15.17//NONSGML v1.0//EN
CALSCALE:GREGORIAN
METHOD:PUBLISH
X-ORIGINAL-URL:https://www.kingdomlife.global
X-WR-CALDESC:Events for Kingdom Life
REFRESH-INTERVAL;VALUE=DURATION:PT1H
X-Robots-Tag:noindex
X-PUBLISHED-TTL:PT1H
BEGIN:VTIMEZONE
TZID:UTC
BEGIN:STANDARD
TZOFFSETFROM:+0000
TZOFFSETTO:+0000
TZNAME:UTC
DTSTART:20220101T000000
END:STANDARD
END:VTIMEZONE
BEGIN:VEVENT
DTSTART;TZID=UTC:20230801T190000
DTEND;TZID=UTC:20230801T200000
DTSTAMP:20260420T202716
CREATED:20230607T142602Z
LAST-MODIFIED:20230607T142602Z
UID:5393-1690916400-1690920000@www.kingdomlife.global
SUMMARY:Elders Meeting
DESCRIPTION:The KLCC elders meet regularly with Pastor Stephen to help spiritually lead the church.
URL:https://www.kingdomlife.global/event/elders-meeting-8-1-23/
END:VEVENT
BEGIN:VEVENT
DTSTART;TZID=UTC:20230804T193000
DTEND;TZID=UTC:20230804T223000
DTSTAMP:20260420T202716
CREATED:20230710T192701Z
LAST-MODIFIED:20230710T192701Z
UID:5536-1691177400-1691188200@www.kingdomlife.global
SUMMARY:Outdoor Movie Night
DESCRIPTION:Bring your lawn chairs and blankets and start arriving anytime after 7:30 pm to enjoy some popcorn and slushies.  The movie “Jesus Revolution” will start at 8:30 pm.  We will move indoors if needed.
URL:https://www.kingdomlife.global/event/outdoor-movie-night/
END:VEVENT
BEGIN:VEVENT
DTSTART;TZID=UTC:20230806T100000
DTEND;TZID=UTC:20230806T113000
DTSTAMP:20260420T202716
CREATED:20230607T142225Z
LAST-MODIFIED:20230607T142225Z
UID:5385-1691316000-1691321400@www.kingdomlife.global
SUMMARY:Worship Service
DESCRIPTION:Nursery available for infants – 3 years old\nChildren’s Church is available for the 4 years old – 2nd grade \nIf you are unable to join us in person\, we stream on Facebook\, YouTube\, and our website \nIntercessory Prayer begins at 9:15 am. \nSunday School is suspended for the summer months.
URL:https://www.kingdomlife.global/event/worship-service-8-6-23/
END:VEVENT
BEGIN:VEVENT
DTSTART;TZID=UTC:20230807T190000
DTEND;TZID=UTC:20230807T200000
DTSTAMP:20260420T202716
CREATED:20230619T194001Z
LAST-MODIFIED:20230619T194021Z
UID:5433-1691434800-1691438400@www.kingdomlife.global
SUMMARY:Prayer Meeting
DESCRIPTION:This is an intentional time of Spirit-led prayer.
URL:https://www.kingdomlife.global/event/prayer-meeting-8-7-23/
END:VEVENT
BEGIN:VEVENT
DTSTART;TZID=UTC:20230808T093000
DTEND;TZID=UTC:20230808T110000
DTSTAMP:20260420T202716
CREATED:20230607T142728Z
LAST-MODIFIED:20230607T142728Z
UID:5397-1691487000-1691492400@www.kingdomlife.global
SUMMARY:Kingdom Women Breakfast
DESCRIPTION:We meet monthly on the 2nd Tuesday at 9:30am at Jenny’s Diner in Clinton.  Join us if you can!
URL:https://www.kingdomlife.global/event/kingdom-women-breakfast-8-8-23/
LOCATION:Jenny’s Diner\, 517 N 2nd St\, Clinton\, IA\, 52732
END:VEVENT
BEGIN:VEVENT
DTSTART;TZID=UTC:20230809T180000
DTEND;TZID=UTC:20230809T210000
DTSTAMP:20260420T202716
CREATED:20230614T153458Z
LAST-MODIFIED:20230614T153458Z
UID:5412-1691604000-1691614800@www.kingdomlife.global
SUMMARY:Youth Swim Party
DESCRIPTION:Come out to Nathan’s for a pool party!  Food is provided.
URL:https://www.kingdomlife.global/event/youth-swim-party-8-9-23/
END:VEVENT
BEGIN:VEVENT
DTSTART;TZID=UTC:20230813T100000
DTEND;TZID=UTC:20230813T113000
DTSTAMP:20260420T202716
CREATED:20230607T142254Z
LAST-MODIFIED:20230607T142254Z
UID:5387-1691920800-1691926200@www.kingdomlife.global
SUMMARY:Worship Service
DESCRIPTION:Nursery available for infants – 3 years old\nChildren’s Church is available for the 4 years old – 2nd grade \nIf you are unable to join us in person\, we stream on Facebook\, YouTube\, and our website \nIntercessory Prayer begins at 9:15 am. \nSunday School is suspended for the summer months.
URL:https://www.kingdomlife.global/event/worship-service-8-13-23/
END:VEVENT
BEGIN:VEVENT
DTSTART;TZID=UTC:20230814T190000
DTEND;TZID=UTC:20230814T200000
DTSTAMP:20260420T202716
CREATED:20230619T194055Z
LAST-MODIFIED:20230619T194055Z
UID:5435-1692039600-1692043200@www.kingdomlife.global
SUMMARY:Prayer Meeting
DESCRIPTION:This is an intentional time of Spirit-led prayer.
URL:https://www.kingdomlife.global/event/prayer-meeting-8-14-23/
END:VEVENT
BEGIN:VEVENT
DTSTART;TZID=UTC:20230820T100000
DTEND;TZID=UTC:20230820T113000
DTSTAMP:20260420T202716
CREATED:20230607T142324Z
LAST-MODIFIED:20230607T142324Z
UID:5389-1692525600-1692531000@www.kingdomlife.global
SUMMARY:Worship Service
DESCRIPTION:Nursery available for infants – 3 years old\nChildren’s Church is available for the 4 years old – 2nd grade \nIf you are unable to join us in person\, we stream on Facebook\, YouTube\, and our website \nIntercessory Prayer begins at 9:15 am. \nSunday School is suspended for the summer months.
URL:https://www.kingdomlife.global/event/worship-service-8-20-23/
END:VEVENT
BEGIN:VEVENT
DTSTART;TZID=UTC:20230821T190000
DTEND;TZID=UTC:20230821T200000
DTSTAMP:20260420T202716
CREATED:20230607T142633Z
LAST-MODIFIED:20230802T174822Z
UID:5395-1692644400-1692648000@www.kingdomlife.global
SUMMARY:Elders Meeting
DESCRIPTION:The KLCC elders meet regularly with Pastor Stephen to help spiritually lead the church.
URL:https://www.kingdomlife.global/event/elders-meeting-8-21-23/
END:VEVENT
BEGIN:VEVENT
DTSTART;TZID=UTC:20230821T190000
DTEND;TZID=UTC:20230821T200000
DTSTAMP:20260420T202716
CREATED:20230619T194127Z
LAST-MODIFIED:20230619T194127Z
UID:5437-1692644400-1692648000@www.kingdomlife.global
SUMMARY:Prayer Meeting
DESCRIPTION:This is an intentional time of Spirit-led prayer.
URL:https://www.kingdomlife.global/event/prayer-meeting-8-21-23/
END:VEVENT
BEGIN:VEVENT
DTSTART;TZID=UTC:20230822T180000
DTEND;TZID=UTC:20230822T200000
DTSTAMP:20260420T202716
CREATED:20230816T170015Z
LAST-MODIFIED:20230816T170015Z
UID:5605-1692727200-1692734400@www.kingdomlife.global
SUMMARY:Board of Directors Meeting
DESCRIPTION:
URL:https://www.kingdomlife.global/event/board-of-directors-meeting-5/
END:VEVENT
BEGIN:VEVENT
DTSTART;TZID=UTC:20230827T100000
DTEND;TZID=UTC:20230827T113000
DTSTAMP:20260420T202716
CREATED:20230607T142402Z
LAST-MODIFIED:20230607T142402Z
UID:5391-1693130400-1693135800@www.kingdomlife.global
SUMMARY:Worship Service
DESCRIPTION:Nursery available for infants – 3 years old\nChildren’s Church is available for the 4 years old – 2nd grade \nIf you are unable to join us in person\, we stream on Facebook\, YouTube\, and our website \nIntercessory Prayer begins at 9:15 am. \nSunday School is suspended for the summer months.
URL:https://www.kingdomlife.global/event/worship-service-8-27-23/
END:VEVENT
BEGIN:VEVENT
DTSTART;TZID=UTC:20230828T190000
DTEND;TZID=UTC:20230828T200000
DTSTAMP:20260420T202716
CREATED:20230619T194157Z
LAST-MODIFIED:20230619T194157Z
UID:5439-1693249200-1693252800@www.kingdomlife.global
SUMMARY:Prayer Meeting
DESCRIPTION:This is an intentional time of Spirit-led prayer.
URL:https://www.kingdomlife.global/event/prayer-meeting-8-28-23/
END:VEVENT
BEGIN:VEVENT
DTSTART;TZID=UTC:20230831T180000
DTEND;TZID=UTC:20230831T200000
DTSTAMP:20260420T202716
CREATED:20230816T170154Z
LAST-MODIFIED:20230816T170154Z
UID:5607-1693504800-1693512000@www.kingdomlife.global
SUMMARY:Men's Get-Together
DESCRIPTION:Men—you are invited to come for dinner and a get-together at KLCC.  The meat will be furnished\, but please bring a side to share.
URL:https://www.kingdomlife.global/event/mens-get-together/
END:VEVENT
END:VCALENDAR